BEGIN:VCALENDAR
VERSION:2.0
PRODID:-//One Voice Central Texas - ECPv6.15.20//NONSGML v1.0//EN
CALSCALE:GREGORIAN
METHOD:PUBLISH
X-ORIGINAL-URL:https://onevoicecentraltx.org
X-WR-CALDESC:Events for One Voice Central Texas
REFRESH-INTERVAL;VALUE=DURATION:PT1H
X-Robots-Tag:noindex
X-PUBLISHED-TTL:PT1H
BEGIN:VTIMEZONE
TZID:America/Chicago
BEGIN:DAYLIGHT
TZOFFSETFROM:-0600
TZOFFSETTO:-0500
TZNAME:CDT
DTSTART:20220313T080000
END:DAYLIGHT
BEGIN:STANDARD
TZOFFSETFROM:-0500
TZOFFSETTO:-0600
TZNAME:CST
DTSTART:20221106T070000
END:STANDARD
BEGIN:DAYLIGHT
TZOFFSETFROM:-0600
TZOFFSETTO:-0500
TZNAME:CDT
DTSTART:20230312T080000
END:DAYLIGHT
BEGIN:STANDARD
TZOFFSETFROM:-0500
TZOFFSETTO:-0600
TZNAME:CST
DTSTART:20231105T070000
END:STANDARD
BEGIN:DAYLIGHT
TZOFFSETFROM:-0600
TZOFFSETTO:-0500
TZNAME:CDT
DTSTART:20240310T080000
END:DAYLIGHT
BEGIN:STANDARD
TZOFFSETFROM:-0500
TZOFFSETTO:-0600
TZNAME:CST
DTSTART:20241103T070000
END:STANDARD
END:VTIMEZONE
BEGIN:VEVENT
DTSTART;TZID=America/Chicago:20231012T130000
DTEND;TZID=America/Chicago:20231012T143000
DTSTAMP:20260422T042603
CREATED:20221220T212526Z
LAST-MODIFIED:20231002T193810Z
UID:21021-1697115600-1697121000@onevoicecentraltx.org
SUMMARY:Standards of Excellence Committee Meeting
DESCRIPTION:*Original meeting on Thursday\, October 5 from 1-2:30pm has been rescheduled to Thursday\, October 12 from 1-2:30pm* \nThe Standards of Excellence Committee is charged with identifying trainings\, workshops\, and seminars related to Standards of Excellence; reviewing the results of the Standards of Excellence survey and identifying issues to be addressed as part of an annual plan to support members; and making recommendations on adjusting the tools or resources offered through One Voice as necessary. \nThis committee will meet virtually on the first Thursday of each month from 1:00 – 2:30 p.m. Drop-in attendance from Members or their staff is welcome! Please see below for the virtual meeting information. \nJoin Zoom Meeting:  https://us02web.zoom.us/j/81705281768?pwd=YmhDU2k5bXBWQ2swcnR3WGZmNkxsZz09 \n\nMeeting ID: 817 0528 1768\nPasscode: 261841\nDial for phone audio: +1 346 248 7799\n\n  \n 
URL:https://onevoicecentraltx.org/event/standards-of-excellence-committee-meeting-2023-10-05/
LOCATION:Virtual (Zoom)
END:VEVENT
END:VCALENDAR