BEGIN:VCALENDAR
VERSION:2.0
PRODID:-//One Voice Central Texas - ECPv6.15.20//NONSGML v1.0//EN
CALSCALE:GREGORIAN
METHOD:PUBLISH
X-WR-CALNAME:One Voice Central Texas
X-ORIGINAL-URL:https://onevoicecentraltx.org
X-WR-CALDESC:Events for One Voice Central Texas
REFRESH-INTERVAL;VALUE=DURATION:PT1H
X-Robots-Tag:noindex
X-PUBLISHED-TTL:PT1H
BEGIN:VTIMEZONE
TZID:America/Chicago
BEGIN:DAYLIGHT
TZOFFSETFROM:-0600
TZOFFSETTO:-0500
TZNAME:CDT
DTSTART:20220313T080000
END:DAYLIGHT
BEGIN:STANDARD
TZOFFSETFROM:-0500
TZOFFSETTO:-0600
TZNAME:CST
DTSTART:20221106T070000
END:STANDARD
BEGIN:DAYLIGHT
TZOFFSETFROM:-0600
TZOFFSETTO:-0500
TZNAME:CDT
DTSTART:20230312T080000
END:DAYLIGHT
BEGIN:STANDARD
TZOFFSETFROM:-0500
TZOFFSETTO:-0600
TZNAME:CST
DTSTART:20231105T070000
END:STANDARD
BEGIN:DAYLIGHT
TZOFFSETFROM:-0600
TZOFFSETTO:-0500
TZNAME:CDT
DTSTART:20240310T080000
END:DAYLIGHT
BEGIN:STANDARD
TZOFFSETFROM:-0500
TZOFFSETTO:-0600
TZNAME:CST
DTSTART:20241103T070000
END:STANDARD
END:VTIMEZONE
BEGIN:VEVENT
DTSTART;TZID=America/Chicago:20231116T113000
DTEND;TZID=America/Chicago:20231116T130000
DTSTAMP:20260421T210929
CREATED:20221220T221149Z
LAST-MODIFIED:20230707T145447Z
UID:21062-1700134200-1700139600@onevoicecentraltx.org
SUMMARY:General Member Meeting
DESCRIPTION:General Member Meetings provide executive leadership with the opportunity to learn and connect with one another on a monthly basis. These meetings consist of voting items\, small group discussions\, committee updates\, conversations about current events\, and informational sessions as requested by members. These meetings are for members and designees only. \n2023 Member Meetings will take place primarily virtually\, with the final meeting of each quarter taking place in person. Make sure you RSVP here so the meetings are on your calendar. \nSee the 2023 Member Meeting Calendar for a list of dates and locations. \nWho: OVCT Member EDs and Designees \nWhen: Third Thursday of each month from 11:30 a.m. – 1:00 p.m. (excluding July and December) \nWhere: Register Here to hold the time on your calendar \n 
URL:https://onevoicecentraltx.org/event/general-member-meeting-2023-11-16/
LOCATION:Virtual (Zoom)
END:VEVENT
END:VCALENDAR