BEGIN:VCALENDAR
VERSION:2.0
PRODID:-//One Voice Central Texas - ECPv6.15.20//NONSGML v1.0//EN
CALSCALE:GREGORIAN
METHOD:PUBLISH
X-ORIGINAL-URL:https://onevoicecentraltx.org
X-WR-CALDESC:Events for One Voice Central Texas
REFRESH-INTERVAL;VALUE=DURATION:PT1H
X-Robots-Tag:noindex
X-PUBLISHED-TTL:PT1H
BEGIN:VTIMEZONE
TZID:America/Chicago
BEGIN:DAYLIGHT
TZOFFSETFROM:-0600
TZOFFSETTO:-0500
TZNAME:CDT
DTSTART:20230312T080000
END:DAYLIGHT
BEGIN:STANDARD
TZOFFSETFROM:-0500
TZOFFSETTO:-0600
TZNAME:CST
DTSTART:20231105T070000
END:STANDARD
BEGIN:DAYLIGHT
TZOFFSETFROM:-0600
TZOFFSETTO:-0500
TZNAME:CDT
DTSTART:20240310T080000
END:DAYLIGHT
BEGIN:STANDARD
TZOFFSETFROM:-0500
TZOFFSETTO:-0600
TZNAME:CST
DTSTART:20241103T070000
END:STANDARD
BEGIN:DAYLIGHT
TZOFFSETFROM:-0600
TZOFFSETTO:-0500
TZNAME:CDT
DTSTART:20250309T080000
END:DAYLIGHT
BEGIN:STANDARD
TZOFFSETFROM:-0500
TZOFFSETTO:-0600
TZNAME:CST
DTSTART:20251102T070000
END:STANDARD
END:VTIMEZONE
BEGIN:VEVENT
DTSTART;TZID=America/Chicago:20240322T110000
DTEND;TZID=America/Chicago:20240322T120000
DTSTAMP:20260421T013351
CREATED:20240306T185159Z
LAST-MODIFIED:20240306T185438Z
UID:22457-1711105200-1711108800@onevoicecentraltx.org
SUMMARY:Sustainability Committee Meetings
DESCRIPTION:The Sustainability Committee is charged with identifying potential funding sources for One Voice Central Texas\, completing grant applications of behalf of the coalition\, securing sponsors\, ensure sponsors receive benefits\, and reviewing the One Voice sponsorship package on an annual basis to ensure it is engaging and appealing. \nThe Sustainability Committee will meet on the fourth Friday of each month from 11:00 a.m. – 12:00 p.m. with the exception of July and December. \nJoin Zoom Meeting: https://us02web.zoom.us/j/85044632979?pwd=NjFCaTBWWTk0NmJTNjRJT3RkRVk4Zz09 \nMeeting ID: 850 4463 2979\nPasscode: 945347 \n 
URL:https://onevoicecentraltx.org/event/sustainability-committee-meetings/2024-03-22/
LOCATION:Virtual (Zoom)
END:VEVENT
END:VCALENDAR