BEGIN:VCALENDAR
VERSION:2.0
PRODID:-//One Voice Central Texas - ECPv6.15.20//NONSGML v1.0//EN
CALSCALE:GREGORIAN
METHOD:PUBLISH
X-WR-CALNAME:One Voice Central Texas
X-ORIGINAL-URL:https://onevoicecentraltx.org
X-WR-CALDESC:Events for One Voice Central Texas
REFRESH-INTERVAL;VALUE=DURATION:PT1H
X-Robots-Tag:noindex
X-PUBLISHED-TTL:PT1H
BEGIN:VTIMEZONE
TZID:America/Chicago
BEGIN:DAYLIGHT
TZOFFSETFROM:-0600
TZOFFSETTO:-0500
TZNAME:CDT
DTSTART:20230312T080000
END:DAYLIGHT
BEGIN:STANDARD
TZOFFSETFROM:-0500
TZOFFSETTO:-0600
TZNAME:CST
DTSTART:20231105T070000
END:STANDARD
BEGIN:DAYLIGHT
TZOFFSETFROM:-0600
TZOFFSETTO:-0500
TZNAME:CDT
DTSTART:20240310T080000
END:DAYLIGHT
BEGIN:STANDARD
TZOFFSETFROM:-0500
TZOFFSETTO:-0600
TZNAME:CST
DTSTART:20241103T070000
END:STANDARD
BEGIN:DAYLIGHT
TZOFFSETFROM:-0600
TZOFFSETTO:-0500
TZNAME:CDT
DTSTART:20250309T080000
END:DAYLIGHT
BEGIN:STANDARD
TZOFFSETFROM:-0500
TZOFFSETTO:-0600
TZNAME:CST
DTSTART:20251102T070000
END:STANDARD
END:VTIMEZONE
BEGIN:VEVENT
DTSTART;TZID=America/Chicago:20240510T130000
DTEND;TZID=America/Chicago:20240510T140000
DTSTAMP:20260420T223324
CREATED:20240424T202128Z
LAST-MODIFIED:20240424T202224Z
UID:22479-1715346000-1715349600@onevoicecentraltx.org
SUMMARY:Public Policy Committee Meeting
DESCRIPTION:Just added! The Public Policy Committee will meet on May 10 to discuss the “Day Without a Nonprofit” campaign. Please join us for this ad-hoc meeting as we nail down goals\, strategies\, and audiences for our upcoming campaign. \nThe Public Policy Committee is charged with taking a proactive approach to public policy matters; initiating\, assessing\, and responding to public policy matters in a manner that benefits One Voice Central Texas members and their clients; serving as the vehicle for membership advocacy initiatives; and bringing matters of interest to the general membership. \nZoom Meeting Link: https://us02web.zoom.us/j/87149618569?pwd=cFo5NkZKNHlhUmFpUHdKdkY2bzM1QT09 \n\n\n\n\n\n\nDial for phone audio: +1 346 248 7799\nMeeting ID: 871 4961 8569\nPasscode: 222130
URL:https://onevoicecentraltx.org/event/public-policy-committee-meeting-may-10/
LOCATION:Virtual (Zoom)
END:VEVENT
END:VCALENDAR