BEGIN:VCALENDAR
VERSION:2.0
PRODID:-//One Voice Central Texas - ECPv6.15.20//NONSGML v1.0//EN
CALSCALE:GREGORIAN
METHOD:PUBLISH
X-WR-CALNAME:One Voice Central Texas
X-ORIGINAL-URL:https://onevoicecentraltx.org
X-WR-CALDESC:Events for One Voice Central Texas
REFRESH-INTERVAL;VALUE=DURATION:PT1H
X-Robots-Tag:noindex
X-PUBLISHED-TTL:PT1H
BEGIN:VTIMEZONE
TZID:America/Chicago
BEGIN:DAYLIGHT
TZOFFSETFROM:-0600
TZOFFSETTO:-0500
TZNAME:CDT
DTSTART:20230312T080000
END:DAYLIGHT
BEGIN:STANDARD
TZOFFSETFROM:-0500
TZOFFSETTO:-0600
TZNAME:CST
DTSTART:20231105T070000
END:STANDARD
BEGIN:DAYLIGHT
TZOFFSETFROM:-0600
TZOFFSETTO:-0500
TZNAME:CDT
DTSTART:20240310T080000
END:DAYLIGHT
BEGIN:STANDARD
TZOFFSETFROM:-0500
TZOFFSETTO:-0600
TZNAME:CST
DTSTART:20241103T070000
END:STANDARD
BEGIN:DAYLIGHT
TZOFFSETFROM:-0600
TZOFFSETTO:-0500
TZNAME:CDT
DTSTART:20250309T080000
END:DAYLIGHT
BEGIN:STANDARD
TZOFFSETFROM:-0500
TZOFFSETTO:-0600
TZNAME:CST
DTSTART:20251102T070000
END:STANDARD
END:VTIMEZONE
BEGIN:VEVENT
DTSTART;TZID=America/Chicago:20240627T110000
DTEND;TZID=America/Chicago:20240627T120000
DTSTAMP:20260420T210129
CREATED:20231222T160312Z
LAST-MODIFIED:20240513T215323Z
UID:22487-1719486000-1719489600@onevoicecentraltx.org
SUMMARY:2024 Standards of Excellence Committee Meetings
DESCRIPTION:The Standards of Excellence Committee is charged with identifying trainings\, workshops\, and seminars related to Standards of Excellence; reviewing the results of the Standards of Excellence survey and identifying issues to be addressed as part of an annual plan to support members; and making recommendations on adjusting the tools or resources offered through One Voice as necessary. \nThis committee will meet virtually on the fourth Thursday of each month from 10:00 – 11:00 a.m. We will have a summer break June – August. \n  \nMeeting Information \nLink to join: https://us02web.zoom.us/j/83625667918?pwd=VzZTcHJYc3BYS0ZVTmdocHczdHRmZz09 \nDial-in audio: 1-346-248-7799\nMeeting ID: 836 2566 7918\nPasscode: 834676
URL:https://onevoicecentraltx.org/event/2024-standards-of-excellence-committee-meetings-2024-06-27/2024-06-27/
LOCATION:Virtual (Zoom)
END:VEVENT
END:VCALENDAR