BEGIN:VCALENDAR
VERSION:2.0
PRODID:-//One Voice Central Texas - ECPv6.15.20//NONSGML v1.0//EN
CALSCALE:GREGORIAN
METHOD:PUBLISH
X-WR-CALNAME:One Voice Central Texas
X-ORIGINAL-URL:https://onevoicecentraltx.org
X-WR-CALDESC:Events for One Voice Central Texas
REFRESH-INTERVAL;VALUE=DURATION:PT1H
X-Robots-Tag:noindex
X-PUBLISHED-TTL:PT1H
BEGIN:VTIMEZONE
TZID:America/Chicago
BEGIN:DAYLIGHT
TZOFFSETFROM:-0600
TZOFFSETTO:-0500
TZNAME:CDT
DTSTART:20240310T080000
END:DAYLIGHT
BEGIN:STANDARD
TZOFFSETFROM:-0500
TZOFFSETTO:-0600
TZNAME:CST
DTSTART:20241103T070000
END:STANDARD
BEGIN:DAYLIGHT
TZOFFSETFROM:-0600
TZOFFSETTO:-0500
TZNAME:CDT
DTSTART:20250309T080000
END:DAYLIGHT
BEGIN:STANDARD
TZOFFSETFROM:-0500
TZOFFSETTO:-0600
TZNAME:CST
DTSTART:20251102T070000
END:STANDARD
BEGIN:DAYLIGHT
TZOFFSETFROM:-0600
TZOFFSETTO:-0500
TZNAME:CDT
DTSTART:20260308T080000
END:DAYLIGHT
BEGIN:STANDARD
TZOFFSETFROM:-0500
TZOFFSETTO:-0600
TZNAME:CST
DTSTART:20261101T070000
END:STANDARD
END:VTIMEZONE
BEGIN:VEVENT
DTSTART;TZID=America/Chicago:20250618T100000
DTEND;TZID=America/Chicago:20250618T110000
DTSTAMP:20260420T030900
CREATED:20250603T211239Z
LAST-MODIFIED:20250603T211355Z
UID:23275-1750240800-1750244400@onevoicecentraltx.org
SUMMARY:Safer\, Smarter\, Stronger: Financial Tools & Resources for Nonprofits and Those They Serve
DESCRIPTION:  \nOVCT Presents:\nSafer\, Smarter\, Stronger: Financial Tools & Resources for Nonprofits and Those They Serve\n\nInformation presented by UFCU and RAISE Texas\n  \nThe Standards of Excellence Committee invites you to join One Voice Central Texas for an informative webinar designed to equip nonprofit professionals with practical financial tools that benefit both staff and the communities they serve. \n\n\nLearn about: \n\nLocal credit union services available for nonprofit employees as well as their clients including payday loan refinancing\, savings match programs\, auto loan support\, fraud protection\, and more\nPractical advice around safer financial and asset protection practices\, building a relationship with your bank\, and lesser-known helpful credit union services\nFree statewide credit-building resources and safer alternatives to predatory lending\, with a special focus on what’s accessible in Central Texas\nFinancial health benefits that nonprofits can establish and offer their employees\n\nRegister using the link below! \n\n \nWhen: Wednesday June 18 from 10:00 – 11:00 \nWhere: Zoom – Register here today! \nWho: We recommend this event for all OVCT nonprofit staff ranging across executive leadership\, human resources\, front line and administrative staff\, and those brand new to the sector. Tools presented will be useful not only for employees\, but the clients they serve.
URL:https://onevoicecentraltx.org/event/safer-smarter-stronger-financial-tools-resources-for-nonprofits-and-those-they-serve/
LOCATION:Virtual (Zoom)
END:VEVENT
END:VCALENDAR