BEGIN:VCALENDAR
VERSION:2.0
PRODID:-//One Voice Central Texas - ECPv6.15.20//NONSGML v1.0//EN
CALSCALE:GREGORIAN
METHOD:PUBLISH
X-WR-CALNAME:One Voice Central Texas
X-ORIGINAL-URL:https://onevoicecentraltx.org
X-WR-CALDESC:Events for One Voice Central Texas
REFRESH-INTERVAL;VALUE=DURATION:PT1H
X-Robots-Tag:noindex
X-PUBLISHED-TTL:PT1H
BEGIN:VTIMEZONE
TZID:America/Chicago
BEGIN:DAYLIGHT
TZOFFSETFROM:-0600
TZOFFSETTO:-0500
TZNAME:CDT
DTSTART:20240310T080000
END:DAYLIGHT
BEGIN:STANDARD
TZOFFSETFROM:-0500
TZOFFSETTO:-0600
TZNAME:CST
DTSTART:20241103T070000
END:STANDARD
BEGIN:DAYLIGHT
TZOFFSETFROM:-0600
TZOFFSETTO:-0500
TZNAME:CDT
DTSTART:20250309T080000
END:DAYLIGHT
BEGIN:STANDARD
TZOFFSETFROM:-0500
TZOFFSETTO:-0600
TZNAME:CST
DTSTART:20251102T070000
END:STANDARD
BEGIN:DAYLIGHT
TZOFFSETFROM:-0600
TZOFFSETTO:-0500
TZNAME:CDT
DTSTART:20260308T080000
END:DAYLIGHT
BEGIN:STANDARD
TZOFFSETFROM:-0500
TZOFFSETTO:-0600
TZNAME:CST
DTSTART:20261101T070000
END:STANDARD
END:VTIMEZONE
BEGIN:VEVENT
DTSTART;TZID=America/Chicago:20250915T113000
DTEND;TZID=America/Chicago:20250915T123000
DTSTAMP:20260419T225740
CREATED:20250827T141230Z
LAST-MODIFIED:20250827T141230Z
UID:23318-1757935800-1757939400@onevoicecentraltx.org
SUMMARY:OVCT Workshop: Agility and Adaptability - Key Competencies for Crisis Leadership
DESCRIPTION:The Standards of Excellence Committee is pleased to welcome Bernadette (Berni) Fisher\, a seasoned consultant and coach with over two decades of experience driving innovation and building high-performing teams\, as she walks One Voice members and their leadership teams through a one hour workshop on Agility and Adaptability: Key Competencies for Crisis Leadership. \nDescription \nThe capacity to swiftly adapt to changing conditions is crucial for non-profit leaders during a crisis. This presentation will explore the competencies of agility and adaptability\, providing insights on how leaders in the non-profit sector can develop these skills to guide their teams through turbulent times effectively. \nLearning Objectives \n\nIdentify the traits of agile and adaptable leadership in the non-profit context.\nAcquire tools and techniques to enhance your ability to respond quickly to crisis situations.\n\nDetails \n\nWho: One Voice Members and other leaders/supervisors within their organizations\nWhen: Monday\, September 17 from 11:30 a.m. – 12:30 p.m. CT\nWhere: Zoom – Register here today!\n\n  \nAbout the Speaker \nI’m Bernadette Fisher (but you can call me Berni)\, a seasoned product leader with over two decades of experience driving innovation and building high-performing teams at industry-leading companies\, including ButcherBox\, Amazon\, TripAdvisor\, Apple\, and TomTom. \nThroughout my career\, I have led organizations through transformational growth\, fostering a culture of strategic execution\, customer obsession\, and operational excellence. As a leader\, I’ve always been passionate about developing talent—mentoring emerging professionals\, coaching teams\, and empowering individuals to take ownership of their careers. \nWebsite Link: Fisher Coaching and Consulting \n  \n 
URL:https://onevoicecentraltx.org/event/ovct-workshop-agility-and-adaptability-key-competencies-for-crisis-leadership/
END:VEVENT
END:VCALENDAR