BEGIN:VCALENDAR
VERSION:2.0
PRODID:-//One Voice Central Texas - ECPv6.15.20//NONSGML v1.0//EN
CALSCALE:GREGORIAN
METHOD:PUBLISH
X-WR-CALNAME:One Voice Central Texas
X-ORIGINAL-URL:https://onevoicecentraltx.org
X-WR-CALDESC:Events for One Voice Central Texas
REFRESH-INTERVAL;VALUE=DURATION:PT1H
X-Robots-Tag:noindex
X-PUBLISHED-TTL:PT1H
BEGIN:VTIMEZONE
TZID:America/Chicago
BEGIN:DAYLIGHT
TZOFFSETFROM:-0600
TZOFFSETTO:-0500
TZNAME:CDT
DTSTART:20240310T080000
END:DAYLIGHT
BEGIN:STANDARD
TZOFFSETFROM:-0500
TZOFFSETTO:-0600
TZNAME:CST
DTSTART:20241103T070000
END:STANDARD
BEGIN:DAYLIGHT
TZOFFSETFROM:-0600
TZOFFSETTO:-0500
TZNAME:CDT
DTSTART:20250309T080000
END:DAYLIGHT
BEGIN:STANDARD
TZOFFSETFROM:-0500
TZOFFSETTO:-0600
TZNAME:CST
DTSTART:20251102T070000
END:STANDARD
BEGIN:DAYLIGHT
TZOFFSETFROM:-0600
TZOFFSETTO:-0500
TZNAME:CDT
DTSTART:20260308T080000
END:DAYLIGHT
BEGIN:STANDARD
TZOFFSETFROM:-0500
TZOFFSETTO:-0600
TZNAME:CST
DTSTART:20261101T070000
END:STANDARD
END:VTIMEZONE
BEGIN:VEVENT
DTSTART;TZID=America/Chicago:20250925T100000
DTEND;TZID=America/Chicago:20250925T110000
DTSTAMP:20260419T225745
CREATED:20241210T154149Z
LAST-MODIFIED:20241210T154149Z
UID:23059-1758794400-1758798000@onevoicecentraltx.org
SUMMARY:2025 Standards of Excellence Committee Meetings
DESCRIPTION:The Standards of Excellence Committee may conduct and review standards assessments\, identify issues to be addressed through member workshops\, organize relevant training sessions\, and recommend adjustments to One Voice’s tools and resources. \n2025 Standards Committee Meetings will take place on the fourth Thursday of each month from 10:00 – 11:00 a.m. \nWho: OVCT Members and Staff Members interested in professional development and other methods of maintaining standards of excellence \nWhen: Fourth Thursday of each month from 10:00 – 11:00 \nWhere: Zoom (Click to join)
URL:https://onevoicecentraltx.org/event/2025-standards-of-excellence-committee-meetings/2025-09-25/
LOCATION:Virtual (Zoom)
END:VEVENT
END:VCALENDAR