BEGIN:VCALENDAR
VERSION:2.0
PRODID:-//One Voice Central Texas - ECPv6.15.20//NONSGML v1.0//EN
CALSCALE:GREGORIAN
METHOD:PUBLISH
X-WR-CALNAME:One Voice Central Texas
X-ORIGINAL-URL:https://onevoicecentraltx.org
X-WR-CALDESC:Events for One Voice Central Texas
REFRESH-INTERVAL;VALUE=DURATION:PT1H
X-Robots-Tag:noindex
X-PUBLISHED-TTL:PT1H
BEGIN:VTIMEZONE
TZID:America/Chicago
BEGIN:DAYLIGHT
TZOFFSETFROM:-0600
TZOFFSETTO:-0500
TZNAME:CDT
DTSTART:20200308T080000
END:DAYLIGHT
BEGIN:STANDARD
TZOFFSETFROM:-0500
TZOFFSETTO:-0600
TZNAME:CST
DTSTART:20201101T070000
END:STANDARD
BEGIN:DAYLIGHT
TZOFFSETFROM:-0600
TZOFFSETTO:-0500
TZNAME:CDT
DTSTART:20210314T080000
END:DAYLIGHT
BEGIN:STANDARD
TZOFFSETFROM:-0500
TZOFFSETTO:-0600
TZNAME:CST
DTSTART:20211107T070000
END:STANDARD
BEGIN:DAYLIGHT
TZOFFSETFROM:-0600
TZOFFSETTO:-0500
TZNAME:CDT
DTSTART:20220313T080000
END:DAYLIGHT
BEGIN:STANDARD
TZOFFSETFROM:-0500
TZOFFSETTO:-0600
TZNAME:CST
DTSTART:20221106T070000
END:STANDARD
BEGIN:DAYLIGHT
TZOFFSETFROM:-0600
TZOFFSETTO:-0500
TZNAME:CDT
DTSTART:20230312T080000
END:DAYLIGHT
BEGIN:STANDARD
TZOFFSETFROM:-0500
TZOFFSETTO:-0600
TZNAME:CST
DTSTART:20231105T070000
END:STANDARD
BEGIN:DAYLIGHT
TZOFFSETFROM:-0600
TZOFFSETTO:-0500
TZNAME:CDT
DTSTART:20240310T080000
END:DAYLIGHT
BEGIN:STANDARD
TZOFFSETFROM:-0500
TZOFFSETTO:-0600
TZNAME:CST
DTSTART:20241103T070000
END:STANDARD
BEGIN:DAYLIGHT
TZOFFSETFROM:-0600
TZOFFSETTO:-0500
TZNAME:CDT
DTSTART:20250309T080000
END:DAYLIGHT
BEGIN:STANDARD
TZOFFSETFROM:-0500
TZOFFSETTO:-0600
TZNAME:CST
DTSTART:20251102T070000
END:STANDARD
END:VTIMEZONE
BEGIN:VEVENT
DTSTART;TZID=America/Chicago:20240320T113000
DTEND;TZID=America/Chicago:20240320T130000
DTSTAMP:20260421T234952
CREATED:20240228T195453Z
LAST-MODIFIED:20240228T195743Z
UID:22435-1710934200-1710939600@onevoicecentraltx.org
SUMMARY:Lunch & Learn - No Cost Employee Benefits: Empowering Nonprofits to Support Financial Wellness in the Workplace
DESCRIPTION:Description: High interest loans and credit programs continue to be a huge drain on finances for many Texans\, including low-wage nonprofit employees. Promoting financial health through employers is a powerful opportunity that often comes with minimal to no additional responsibility for the employer. Join us as we share information about safe\, effective small-dollar loans and other financial well-being services that employers can offer to their employees. \nTopics of Interest:  \n\nThe realities of predatory loans in Central Texas\nSafer loan options for your employees\nHow to utilize the benefits of the Community Loan Center\nHelping your employees access better financial products\n\nPanelists \n\nAnn Baddour\, Director\, Fair Financial Services Project\, Texas Appleseed\nRaquel Valdez Sanchez- Chief Operating Officer\, BCL of Texas\nCynthia Smith McCollum – Executive Director\, Open Door Preschools\nElizabeth Colvin – Executive Director\, RAISE Texas\n\nDetails \n\nWho should attend?: Nonprofit Leaders\, HR Managers\, Board Members\, and those interested in learning more about small dollar loan benefits available for their nonprofit\nCost: This event is free if your organization is a member of One Voice Central Texas. This event will cost $10 for guests who are not currently members of One Voice Central Texas.\nWhere: This event will be virtual.\n\nThis event will require registration! Go here to register:\nhttps://onevoicecentraltx.wildapricot.org/event-5633290\n 
URL:https://onevoicecentraltx.org/event/lunch-learn-no-cost-employee-benefits-empowering-nonprofits-to-support-financial-wellness-in-the-workplace/
LOCATION:Virtual (Zoom)
CATEGORIES:Standards of Excellence Committee,Trainings
ATTACH;FMTTYPE=image/png:https://onevoicecentraltx.org/wp-content/uploads/2024/02/OVCT-Panel-Discussion-2.png
END:VEVENT
BEGIN:VEVENT
DTSTART;TZID=America/Chicago:20210625T130000
DTEND;TZID=America/Chicago:20210625T150000
DTSTAMP:20260421T234952
CREATED:20201207T175530Z
LAST-MODIFIED:20210507T193443Z
UID:16272-1624626000-1624633200@onevoicecentraltx.org
SUMMARY:OVCT DEI Session #2 (Second Offering) Uprooting Internalized White Supremacy\, Equity Principles & The Standards for Excellence
DESCRIPTION:The June 25 Standards of Excellence Meeting has been replaced with a DEI learning session. \nOne Voice Central Texas is excited to share that we have selected Dr. Stephanie Hawley (she/her/hers) as a Diversity\, Equity\, and Inclusion (DEI) Consultant. Stephanie will help assess member needs and interests regarding DEI tools\, resources\, and trainings. \nIn addition to assisting with self-assessment tools\, Stephanie will also be leading three DEI sessions for OVCT members with two dates for each session so members have more flexibility in their ability to attend. We encourage members to attend all three sessions. \nSession 2: Uprooting Internalized White Supremacy\, Equity Principles & The Standards for Excellence \nTwo available dates in June: \nFirst Offering: Friday June 11 from 9:00 – 11:00 a.m.\nSecond Offering: Friday June 25 from 1:00 – 3:00 p.m. (In place of the existing Standards of Excellence Committee Meeting) \nMembers may attend EITHER of these dates for Session 2. \nFor the June 25 date\, please register here: \n﻿ \n  \nPlease go here to register for the other DEI Sessions: \nDEI Session #1: Leading for Racial Equity & Inclusiveness: A Leader’s Tools & Habits \nFirst Offering: Friday May 14 from 9:00 – 11:00 a.m. \nSecond Offering: Thursday May 27 from 3:00 – 5:00 p.m. (In place of the existing Equity & Social Justice Committee Meeting) \nMembers only need to register for one of the dates for Session #1. \n  \nDEI Session #2: Uprooting Internalized White Supremacy\, Equity Principles & The Standards for Excellence \nFirst Offering: Friday June 11 from 9:00 – 11:00 a.m. \nMembers only need to register for one of the dates for Session #2. \n  \nDEI Session #3: Equity by Design: Tools for Communication\, Community Engagement\, Planning\, Budgeting & Evaluation \nFirst Offering: Friday July 9 from 9:00 – 11:00 a.m. \nSecond Offering: Thursday July 29 from 3:00 – 5:00 p.m. \nMembers only need to register for one of the dates for Session #3.
URL:https://onevoicecentraltx.org/event/standards-of-excellence-committee-meeting-2021-06-25/
LOCATION:Virtual (Zoom)
CATEGORIES:Standards of Excellence Committee
END:VEVENT
END:VCALENDAR