BEGIN:VCALENDAR
VERSION:2.0
PRODID:-//One Voice Central Texas - ECPv6.15.20//NONSGML v1.0//EN
CALSCALE:GREGORIAN
METHOD:PUBLISH
X-WR-CALNAME:One Voice Central Texas
X-ORIGINAL-URL:https://onevoicecentraltx.org
X-WR-CALDESC:Events for One Voice Central Texas
REFRESH-INTERVAL;VALUE=DURATION:PT1H
X-Robots-Tag:noindex
X-PUBLISHED-TTL:PT1H
BEGIN:VTIMEZONE
TZID:America/Chicago
BEGIN:DAYLIGHT
TZOFFSETFROM:-0600
TZOFFSETTO:-0500
TZNAME:CDT
DTSTART:20250309T080000
END:DAYLIGHT
BEGIN:STANDARD
TZOFFSETFROM:-0500
TZOFFSETTO:-0600
TZNAME:CST
DTSTART:20251102T070000
END:STANDARD
BEGIN:DAYLIGHT
TZOFFSETFROM:-0600
TZOFFSETTO:-0500
TZNAME:CDT
DTSTART:20260308T080000
END:DAYLIGHT
BEGIN:STANDARD
TZOFFSETFROM:-0500
TZOFFSETTO:-0600
TZNAME:CST
DTSTART:20261101T070000
END:STANDARD
BEGIN:DAYLIGHT
TZOFFSETFROM:-0600
TZOFFSETTO:-0500
TZNAME:CDT
DTSTART:20270314T080000
END:DAYLIGHT
BEGIN:STANDARD
TZOFFSETFROM:-0500
TZOFFSETTO:-0600
TZNAME:CST
DTSTART:20271107T070000
END:STANDARD
END:VTIMEZONE
BEGIN:VEVENT
DTSTART;TZID=America/Chicago:20260618T153000
DTEND;TZID=America/Chicago:20260618T163000
DTSTAMP:20260422T173657
CREATED:20260422T145007Z
LAST-MODIFIED:20260422T145007Z
UID:23396-1781796600-1781800200@onevoicecentraltx.org
SUMMARY:2026 Public Policy Committee Meetings
DESCRIPTION:The Public Policy Committee takes a proactive approach to public policy by initiating\, assessing\, and responding to issues which benefit members and their clients. It may also serve as a vehicle for advocacy\, bringing matters of interest to the general membership. The committee may request meetings with elected officials and form groups to speak at City/County meetings. \n2026 Public Policy Committee Meetings will take place on the third Tuesday every month from 3:30 – 4:30 p.m. (excluding July). \nWho: OVCT Members and Staff Members interested in advocacy and policy \nWhen: Third Tuesday of every month from 3:30 – 4:30 p.m. \nWhere: Zoom (Click to join)
URL:https://onevoicecentraltx.org/event/2026-public-policy-committee-meetings/2026-06-18/
LOCATION:Virtual (Zoom)
END:VEVENT
BEGIN:VEVENT
DTSTART;TZID=America/Chicago:20260702T100000
DTEND;TZID=America/Chicago:20260702T113000
DTSTAMP:20260422T173657
CREATED:20260127T161835Z
LAST-MODIFIED:20260127T161835Z
UID:23407-1782986400-1782991800@onevoicecentraltx.org
SUMMARY:2026 Executive Committee Meetings
DESCRIPTION:In 2026\, Executive Committee Meetings will be held on the first Thursday of each month from 10:00 – 11:30 a.m. on Zoom. Meetings are reserved for Executive Committee Members so there is not a public link to join. \nAny member may request time to speak with the Executive Committee at their monthly meeting. Please email in**@***************tx.org to request a time to bring a topic forward to the Executive Committee.
URL:https://onevoicecentraltx.org/event/2026-executive-committee-meetings/2026-07-02/
LOCATION:Virtual (Zoom)
END:VEVENT
BEGIN:VEVENT
DTSTART;TZID=America/Chicago:20260716T153000
DTEND;TZID=America/Chicago:20260716T163000
DTSTAMP:20260422T173657
CREATED:20260422T145008Z
LAST-MODIFIED:20260422T145008Z
UID:23397-1784215800-1784219400@onevoicecentraltx.org
SUMMARY:2026 Public Policy Committee Meetings
DESCRIPTION:The Public Policy Committee takes a proactive approach to public policy by initiating\, assessing\, and responding to issues which benefit members and their clients. It may also serve as a vehicle for advocacy\, bringing matters of interest to the general membership. The committee may request meetings with elected officials and form groups to speak at City/County meetings. \n2026 Public Policy Committee Meetings will take place on the third Tuesday every month from 3:30 – 4:30 p.m. (excluding July). \nWho: OVCT Members and Staff Members interested in advocacy and policy \nWhen: Third Tuesday of every month from 3:30 – 4:30 p.m. \nWhere: Zoom (Click to join)
URL:https://onevoicecentraltx.org/event/2026-public-policy-committee-meetings/2026-07-16/
LOCATION:Virtual (Zoom)
END:VEVENT
BEGIN:VEVENT
DTSTART;TZID=America/Chicago:20260806T100000
DTEND;TZID=America/Chicago:20260806T113000
DTSTAMP:20260422T173657
CREATED:20260127T161835Z
LAST-MODIFIED:20260127T161835Z
UID:23408-1786010400-1786015800@onevoicecentraltx.org
SUMMARY:2026 Executive Committee Meetings
DESCRIPTION:In 2026\, Executive Committee Meetings will be held on the first Thursday of each month from 10:00 – 11:30 a.m. on Zoom. Meetings are reserved for Executive Committee Members so there is not a public link to join. \nAny member may request time to speak with the Executive Committee at their monthly meeting. Please email in**@***************tx.org to request a time to bring a topic forward to the Executive Committee.
URL:https://onevoicecentraltx.org/event/2026-executive-committee-meetings/2026-08-06/
LOCATION:Virtual (Zoom)
END:VEVENT
BEGIN:VEVENT
DTSTART;TZID=America/Chicago:20260820T153000
DTEND;TZID=America/Chicago:20260820T163000
DTSTAMP:20260422T173657
CREATED:20260422T145008Z
LAST-MODIFIED:20260422T145008Z
UID:23398-1787239800-1787243400@onevoicecentraltx.org
SUMMARY:2026 Public Policy Committee Meetings
DESCRIPTION:The Public Policy Committee takes a proactive approach to public policy by initiating\, assessing\, and responding to issues which benefit members and their clients. It may also serve as a vehicle for advocacy\, bringing matters of interest to the general membership. The committee may request meetings with elected officials and form groups to speak at City/County meetings. \n2026 Public Policy Committee Meetings will take place on the third Tuesday every month from 3:30 – 4:30 p.m. (excluding July). \nWho: OVCT Members and Staff Members interested in advocacy and policy \nWhen: Third Tuesday of every month from 3:30 – 4:30 p.m. \nWhere: Zoom (Click to join)
URL:https://onevoicecentraltx.org/event/2026-public-policy-committee-meetings/2026-08-20/
LOCATION:Virtual (Zoom)
END:VEVENT
BEGIN:VEVENT
DTSTART;TZID=America/Chicago:20260903T100000
DTEND;TZID=America/Chicago:20260903T113000
DTSTAMP:20260422T173657
CREATED:20260127T161835Z
LAST-MODIFIED:20260127T161835Z
UID:23409-1788429600-1788435000@onevoicecentraltx.org
SUMMARY:2026 Executive Committee Meetings
DESCRIPTION:In 2026\, Executive Committee Meetings will be held on the first Thursday of each month from 10:00 – 11:30 a.m. on Zoom. Meetings are reserved for Executive Committee Members so there is not a public link to join. \nAny member may request time to speak with the Executive Committee at their monthly meeting. Please email in**@***************tx.org to request a time to bring a topic forward to the Executive Committee.
URL:https://onevoicecentraltx.org/event/2026-executive-committee-meetings/2026-09-03/
LOCATION:Virtual (Zoom)
END:VEVENT
BEGIN:VEVENT
DTSTART;TZID=America/Chicago:20260917T153000
DTEND;TZID=America/Chicago:20260917T163000
DTSTAMP:20260422T173657
CREATED:20260422T145008Z
LAST-MODIFIED:20260422T145008Z
UID:23399-1789659000-1789662600@onevoicecentraltx.org
SUMMARY:2026 Public Policy Committee Meetings
DESCRIPTION:The Public Policy Committee takes a proactive approach to public policy by initiating\, assessing\, and responding to issues which benefit members and their clients. It may also serve as a vehicle for advocacy\, bringing matters of interest to the general membership. The committee may request meetings with elected officials and form groups to speak at City/County meetings. \n2026 Public Policy Committee Meetings will take place on the third Tuesday every month from 3:30 – 4:30 p.m. (excluding July). \nWho: OVCT Members and Staff Members interested in advocacy and policy \nWhen: Third Tuesday of every month from 3:30 – 4:30 p.m. \nWhere: Zoom (Click to join)
URL:https://onevoicecentraltx.org/event/2026-public-policy-committee-meetings/2026-09-17/
LOCATION:Virtual (Zoom)
END:VEVENT
BEGIN:VEVENT
DTSTART;TZID=America/Chicago:20261001T100000
DTEND;TZID=America/Chicago:20261001T113000
DTSTAMP:20260422T173657
CREATED:20260127T161835Z
LAST-MODIFIED:20260127T161835Z
UID:23410-1790848800-1790854200@onevoicecentraltx.org
SUMMARY:2026 Executive Committee Meetings
DESCRIPTION:In 2026\, Executive Committee Meetings will be held on the first Thursday of each month from 10:00 – 11:30 a.m. on Zoom. Meetings are reserved for Executive Committee Members so there is not a public link to join. \nAny member may request time to speak with the Executive Committee at their monthly meeting. Please email in**@***************tx.org to request a time to bring a topic forward to the Executive Committee.
URL:https://onevoicecentraltx.org/event/2026-executive-committee-meetings/2026-10-01/
LOCATION:Virtual (Zoom)
END:VEVENT
BEGIN:VEVENT
DTSTART;TZID=America/Chicago:20261015T153000
DTEND;TZID=America/Chicago:20261015T163000
DTSTAMP:20260422T173657
CREATED:20260422T145008Z
LAST-MODIFIED:20260422T145008Z
UID:23400-1792078200-1792081800@onevoicecentraltx.org
SUMMARY:2026 Public Policy Committee Meetings
DESCRIPTION:The Public Policy Committee takes a proactive approach to public policy by initiating\, assessing\, and responding to issues which benefit members and their clients. It may also serve as a vehicle for advocacy\, bringing matters of interest to the general membership. The committee may request meetings with elected officials and form groups to speak at City/County meetings. \n2026 Public Policy Committee Meetings will take place on the third Tuesday every month from 3:30 – 4:30 p.m. (excluding July). \nWho: OVCT Members and Staff Members interested in advocacy and policy \nWhen: Third Tuesday of every month from 3:30 – 4:30 p.m. \nWhere: Zoom (Click to join)
URL:https://onevoicecentraltx.org/event/2026-public-policy-committee-meetings/2026-10-15/
LOCATION:Virtual (Zoom)
END:VEVENT
BEGIN:VEVENT
DTSTART;TZID=America/Chicago:20261105T100000
DTEND;TZID=America/Chicago:20261105T113000
DTSTAMP:20260422T173657
CREATED:20260127T161835Z
LAST-MODIFIED:20260127T161835Z
UID:23411-1793872800-1793878200@onevoicecentraltx.org
SUMMARY:2026 Executive Committee Meetings
DESCRIPTION:In 2026\, Executive Committee Meetings will be held on the first Thursday of each month from 10:00 – 11:30 a.m. on Zoom. Meetings are reserved for Executive Committee Members so there is not a public link to join. \nAny member may request time to speak with the Executive Committee at their monthly meeting. Please email in**@***************tx.org to request a time to bring a topic forward to the Executive Committee.
URL:https://onevoicecentraltx.org/event/2026-executive-committee-meetings/2026-11-05/
LOCATION:Virtual (Zoom)
END:VEVENT
BEGIN:VEVENT
DTSTART;TZID=America/Chicago:20261203T100000
DTEND;TZID=America/Chicago:20261203T113000
DTSTAMP:20260422T173657
CREATED:20260127T161835Z
LAST-MODIFIED:20260127T161835Z
UID:23412-1796292000-1796297400@onevoicecentraltx.org
SUMMARY:2026 Executive Committee Meetings
DESCRIPTION:In 2026\, Executive Committee Meetings will be held on the first Thursday of each month from 10:00 – 11:30 a.m. on Zoom. Meetings are reserved for Executive Committee Members so there is not a public link to join. \nAny member may request time to speak with the Executive Committee at their monthly meeting. Please email in**@***************tx.org to request a time to bring a topic forward to the Executive Committee.
URL:https://onevoicecentraltx.org/event/2026-executive-committee-meetings/2026-12-03/
LOCATION:Virtual (Zoom)
END:VEVENT
END:VCALENDAR