BEGIN:VCALENDAR
VERSION:2.0
PRODID:-//One Voice Central Texas - ECPv6.15.20//NONSGML v1.0//EN
CALSCALE:GREGORIAN
METHOD:PUBLISH
X-WR-CALNAME:One Voice Central Texas
X-ORIGINAL-URL:https://onevoicecentraltx.org
X-WR-CALDESC:Events for One Voice Central Texas
REFRESH-INTERVAL;VALUE=DURATION:PT1H
X-Robots-Tag:noindex
X-PUBLISHED-TTL:PT1H
BEGIN:VTIMEZONE
TZID:America/Chicago
BEGIN:DAYLIGHT
TZOFFSETFROM:-0600
TZOFFSETTO:-0500
TZNAME:CDT
DTSTART:20200308T080000
END:DAYLIGHT
BEGIN:STANDARD
TZOFFSETFROM:-0500
TZOFFSETTO:-0600
TZNAME:CST
DTSTART:20201101T070000
END:STANDARD
BEGIN:DAYLIGHT
TZOFFSETFROM:-0600
TZOFFSETTO:-0500
TZNAME:CDT
DTSTART:20210314T080000
END:DAYLIGHT
BEGIN:STANDARD
TZOFFSETFROM:-0500
TZOFFSETTO:-0600
TZNAME:CST
DTSTART:20211107T070000
END:STANDARD
BEGIN:DAYLIGHT
TZOFFSETFROM:-0600
TZOFFSETTO:-0500
TZNAME:CDT
DTSTART:20220313T080000
END:DAYLIGHT
BEGIN:STANDARD
TZOFFSETFROM:-0500
TZOFFSETTO:-0600
TZNAME:CST
DTSTART:20221106T070000
END:STANDARD
END:VTIMEZONE
BEGIN:VEVENT
DTSTART;TZID=America/Chicago:20210826T120000
DTEND;TZID=America/Chicago:20210826T130000
DTSTAMP:20260424T120652
CREATED:20210802T215236Z
LAST-MODIFIED:20210802T215617Z
UID:18034-1629979200-1629982800@onevoicecentraltx.org
SUMMARY:Crisis Communications Planning
DESCRIPTION:The Standards of Excellence Committee is pleased to invite you to a learning session with Brianna McKinney\, founder and CEO of Bloom Communications\, on the topic of Crisis Communications Planning for Nonprofit Leadership. \nA Crisis Communications Plan differs from a policy that may live somewhere in your employee handbook. Crisis Communications Plans are living and breathing documents that prepare you and your organization for managing both internal and external communications swiftly and effectively when a crisis occurs. \nBy attending this session\, you will walk away with a better understanding of: \n\nWhat constitutes a crisis\nThe goals of crisis communications\nThe best time to plan for a crisis\nBest practices when navigating a crisis\n\nFollowing Brianna’s presentation\, there will be time for Q&A. \n  \nWhen: Thursday\, August 26 from 12:00 – 1:00 p.m. \nWho: One Voice Central Texas and The Nonprofit Council Members \nWhere:  This event will be virtual. Please register here for the Zoom event! \nCost: Free! $10 donations are welcome (see below). Donations go toward future learning sessions and member events. Please note: If you choose to make a donation\, you will still need to register through Zoom for the event link. \nOnce registered\, please add the event and confirmation link to your calendar!
URL:https://onevoicecentraltx.org/event/crisis-communications-planning/
LOCATION:Virtual (Zoom)
END:VEVENT
END:VCALENDAR