BEGIN:VCALENDAR
VERSION:2.0
PRODID:-//One Voice Central Texas - ECPv6.15.20//NONSGML v1.0//EN
CALSCALE:GREGORIAN
METHOD:PUBLISH
X-ORIGINAL-URL:https://onevoicecentraltx.org
X-WR-CALDESC:Events for One Voice Central Texas
REFRESH-INTERVAL;VALUE=DURATION:PT1H
X-Robots-Tag:noindex
X-PUBLISHED-TTL:PT1H
BEGIN:VTIMEZONE
TZID:America/Chicago
BEGIN:DAYLIGHT
TZOFFSETFROM:-0600
TZOFFSETTO:-0500
TZNAME:CDT
DTSTART:20220313T080000
END:DAYLIGHT
BEGIN:STANDARD
TZOFFSETFROM:-0500
TZOFFSETTO:-0600
TZNAME:CST
DTSTART:20221106T070000
END:STANDARD
BEGIN:DAYLIGHT
TZOFFSETFROM:-0600
TZOFFSETTO:-0500
TZNAME:CDT
DTSTART:20230312T080000
END:DAYLIGHT
BEGIN:STANDARD
TZOFFSETFROM:-0500
TZOFFSETTO:-0600
TZNAME:CST
DTSTART:20231105T070000
END:STANDARD
BEGIN:DAYLIGHT
TZOFFSETFROM:-0600
TZOFFSETTO:-0500
TZNAME:CDT
DTSTART:20240310T080000
END:DAYLIGHT
BEGIN:STANDARD
TZOFFSETFROM:-0500
TZOFFSETTO:-0600
TZNAME:CST
DTSTART:20241103T070000
END:STANDARD
END:VTIMEZONE
BEGIN:VEVENT
DTSTART;TZID=America/Chicago:20230104T153000
DTEND;TZID=America/Chicago:20230104T170000
DTSTAMP:20260422T185420
CREATED:20221220T211521Z
LAST-MODIFIED:20221220T211539Z
UID:20986-1672846200-1672851600@onevoicecentraltx.org
SUMMARY:Executive Committee Meeting
DESCRIPTION:The Executive Committee will meet virtually on the first Wednesday of each month from 3:30 – 5:00 p.m. Meetings are reserved for Executive Committee Members. \nAny member may request time to speak with the Executive Committee at their monthly meeting. Please email in**@***************tx.org to request a time to bring a topic forward to the Executive Committee.
URL:https://onevoicecentraltx.org/event/executive-committee/2023-01-04/
LOCATION:Virtual (Zoom)
END:VEVENT
BEGIN:VEVENT
DTSTART;TZID=America/Chicago:20230105T130000
DTEND;TZID=America/Chicago:20230105T143000
DTSTAMP:20260422T185420
CREATED:20221220T212526Z
LAST-MODIFIED:20221220T214000Z
UID:21012-1672923600-1672929000@onevoicecentraltx.org
SUMMARY:Standards of Excellence Committee Meeting
DESCRIPTION:The Standards of Excellence Committee is charged with identifying trainings\, workshops\, and seminars related to Standards of Excellence; reviewing the results of the Standards of Excellence survey and identifying issues to be addressed as part of an annual plan to support members; and making recommendations on adjusting the tools or resources offered through One Voice as necessary. \nThis committee will meet virtually on the first Thursday of each month from 1:00 – 2:30 p.m. Drop-in attendance from Members or their staff is welcome! Please see below for the virtual meeting information. \nJoin Zoom Meeting:  https://us02web.zoom.us/j/81705281768?pwd=YmhDU2k5bXBWQ2swcnR3WGZmNkxsZz09 \n\nMeeting ID: 817 0528 1768\nPasscode: 261841\nDial for phone audio: +1 346 248 7799\n\n  \n 
URL:https://onevoicecentraltx.org/event/standards-of-excellence-committee-meeting/2023-01-05/
LOCATION:Virtual (Zoom)
END:VEVENT
BEGIN:VEVENT
DTSTART;TZID=America/Chicago:20230113T153000
DTEND;TZID=America/Chicago:20230113T163000
DTSTAMP:20260422T185420
CREATED:20221220T215226Z
LAST-MODIFIED:20221220T215226Z
UID:21033-1673623800-1673627400@onevoicecentraltx.org
SUMMARY:Public Policy Committee Meeting
DESCRIPTION:The Public Policy Committee is charged with taking a proactive approach to public policy matters; initiating\, assessing\, and responding to public policy matters in a manner that benefits One Voice Central Texas members and their clients; serving as the vehicle for membership advocacy initiatives; and bringing matters of interest to the general membership. \nThe Public Policy Committee will meet virtually on the second Thursday of January\, February\, March\, May\, August\, and October with a wrap-up meeting in November. Drop-in attendance from Members and their staff is welcome! Please see below for virtual meeting information. \nNote: The January meeting will run from 3:30 – 5:00 p.m. All other meetings will run from 3:30 – 4:30 p.m. \nJoin Zoom Meeting: https://us02web.zoom.us/j/86138772423?pwd=d2xLSktaVTRWTTlxTGlQWC9lY2E5dz09 \n\nMeeting ID: 861 3877 2423\nPasscode: 512024\nDial for phone audio: +1 346 248 7799\n\n  \n 
URL:https://onevoicecentraltx.org/event/public-policy-committee-meeting/2023-01-13/
LOCATION:Virtual (Zoom)
END:VEVENT
BEGIN:VEVENT
DTSTART;TZID=America/Chicago:20230119T113000
DTEND;TZID=America/Chicago:20230119T130000
DTSTAMP:20260422T185420
CREATED:20221220T221149Z
LAST-MODIFIED:20230703T210946Z
UID:21051-1674127800-1674133200@onevoicecentraltx.org
SUMMARY:General Member Meeting
DESCRIPTION:General Member Meetings provide executive leadership with the opportunity to learn and connect with one another on a monthly basis. These meetings consist of voting items\, small group discussions\, committee updates\, conversations about current events\, and informational sessions as requested by members. These meetings are for members and designees only. \n2023 Member Meetings will take place primarily virtually\, with the final meeting of each quarter taking place in person. Make sure you RSVP here so the meetings are on your calendar. \nSee the 2023 Member Meeting Calendar for a list of dates and locations. \nWho: OVCT Member EDs and Designees \nWhen: Third Thursday of each month from 11:30 a.m. – 1:00 p.m. (excluding July and December) \nWhere: Register Here to hold the time on your calendar \n 
URL:https://onevoicecentraltx.org/event/general-member-meeting/2023-01-19/
LOCATION:Virtual (Zoom)
END:VEVENT
BEGIN:VEVENT
DTSTART;TZID=America/Chicago:20230123T140000
DTEND;TZID=America/Chicago:20230123T150000
DTSTAMP:20260422T185420
CREATED:20221220T220235Z
LAST-MODIFIED:20221220T220235Z
UID:21041-1674482400-1674486000@onevoicecentraltx.org
SUMMARY:Membership Committee Meeting
DESCRIPTION:The Membership Committee will review and make recommendations regarding membership categories; identify and reach out to potential new members and affiliates; conduct the annual membership drive; welcome and support new members; facilitate an atmosphere of mutual support among members through networking\, social events and other means; organize social events that allow for members to connect with one another outside of meetings; and encourage member involvement in committees. \nThis Committee will meet virtually on the fourth Monday of each month from 2:00 – 3:00 p.m.\, excluding June & July for summer break. Drop-in attendance from Members and their staff is welcome! Please see below for virtual meeting details. \nJoin Zoom Meeting: https://us02web.zoom.us/j/87841041662?pwd=VktGQ3RneERtM1JYQzhZV3NhRlM0dz09 \n\nMeeting ID: 878 4104 1662\nPasscode: 422547\nDial for phone audio: +1 346 248 7799
URL:https://onevoicecentraltx.org/event/membership-committee-meeting/2023-01-23/
LOCATION:Virtual (Zoom)
END:VEVENT
END:VCALENDAR