BEGIN:VCALENDAR
VERSION:2.0
PRODID:-//One Voice Central Texas - ECPv6.15.20//NONSGML v1.0//EN
CALSCALE:GREGORIAN
METHOD:PUBLISH
X-ORIGINAL-URL:https://onevoicecentraltx.org
X-WR-CALDESC:Events for One Voice Central Texas
REFRESH-INTERVAL;VALUE=DURATION:PT1H
X-Robots-Tag:noindex
X-PUBLISHED-TTL:PT1H
BEGIN:VTIMEZONE
TZID:America/Chicago
BEGIN:DAYLIGHT
TZOFFSETFROM:-0600
TZOFFSETTO:-0500
TZNAME:CDT
DTSTART:20220313T080000
END:DAYLIGHT
BEGIN:STANDARD
TZOFFSETFROM:-0500
TZOFFSETTO:-0600
TZNAME:CST
DTSTART:20221106T070000
END:STANDARD
BEGIN:DAYLIGHT
TZOFFSETFROM:-0600
TZOFFSETTO:-0500
TZNAME:CDT
DTSTART:20230312T080000
END:DAYLIGHT
BEGIN:STANDARD
TZOFFSETFROM:-0500
TZOFFSETTO:-0600
TZNAME:CST
DTSTART:20231105T070000
END:STANDARD
BEGIN:DAYLIGHT
TZOFFSETFROM:-0600
TZOFFSETTO:-0500
TZNAME:CDT
DTSTART:20240310T080000
END:DAYLIGHT
BEGIN:STANDARD
TZOFFSETFROM:-0500
TZOFFSETTO:-0600
TZNAME:CST
DTSTART:20241103T070000
END:STANDARD
END:VTIMEZONE
BEGIN:VEVENT
DTSTART;TZID=America/Chicago:20230728T100000
DTEND;TZID=America/Chicago:20230728T110000
DTSTAMP:20260422T095359
CREATED:20230724T142326Z
LAST-MODIFIED:20230724T142326Z
UID:22189-1690538400-1690542000@onevoicecentraltx.org
SUMMARY:OVCT Presents: Ask Atchley! A Nonprofit Financials Webinar
DESCRIPTION:Are you having to navigate the world of nonprofit financial policies and procedures? Atchley & Associates\, LLP will be holding a webinar to help answer your questions and cover some best practices. We invite anyone from our One Voice member organizations to join the call.\n\n\nPlease register at the link below. \n\nWho: Anyone from One Voice Central Texas member organizations (ideal for those handling finances and bookkeeping) \nWhen: Friday\, July 28 from 10:00 a.m. – 11:00 a.m. \nWhere: Virtual – Please Register Here
URL:https://onevoicecentraltx.org/event/ovct-presents-ask-atchley-a-nonprofit-financials-webinar/
LOCATION:Virtual (Zoom)
END:VEVENT
END:VCALENDAR