BEGIN:VCALENDAR
VERSION:2.0
PRODID:-//One Voice Central Texas - ECPv6.15.20//NONSGML v1.0//EN
CALSCALE:GREGORIAN
METHOD:PUBLISH
X-WR-CALNAME:One Voice Central Texas
X-ORIGINAL-URL:https://onevoicecentraltx.org
X-WR-CALDESC:Events for One Voice Central Texas
REFRESH-INTERVAL;VALUE=DURATION:PT1H
X-Robots-Tag:noindex
X-PUBLISHED-TTL:PT1H
BEGIN:VTIMEZONE
TZID:America/Chicago
BEGIN:DAYLIGHT
TZOFFSETFROM:-0600
TZOFFSETTO:-0500
TZNAME:CDT
DTSTART:20230312T080000
END:DAYLIGHT
BEGIN:STANDARD
TZOFFSETFROM:-0500
TZOFFSETTO:-0600
TZNAME:CST
DTSTART:20231105T070000
END:STANDARD
BEGIN:DAYLIGHT
TZOFFSETFROM:-0600
TZOFFSETTO:-0500
TZNAME:CDT
DTSTART:20240310T080000
END:DAYLIGHT
BEGIN:STANDARD
TZOFFSETFROM:-0500
TZOFFSETTO:-0600
TZNAME:CST
DTSTART:20241103T070000
END:STANDARD
BEGIN:DAYLIGHT
TZOFFSETFROM:-0600
TZOFFSETTO:-0500
TZNAME:CDT
DTSTART:20250309T080000
END:DAYLIGHT
BEGIN:STANDARD
TZOFFSETFROM:-0500
TZOFFSETTO:-0600
TZNAME:CST
DTSTART:20251102T070000
END:STANDARD
END:VTIMEZONE
BEGIN:VEVENT
DTSTART;TZID=America/Chicago:20240104T100000
DTEND;TZID=America/Chicago:20240104T113000
DTSTAMP:20260421T025119
CREATED:20231218T183722Z
LAST-MODIFIED:20231218T183722Z
UID:22335-1704362400-1704367800@onevoicecentraltx.org
SUMMARY:2024 Executive Committee Meetings
DESCRIPTION:The Executive Committee will meet virtually on the first Thursday of each month from 10:00 – 11:30 a.m. Meetings are reserved for Executive Committee Members so there is not a public link to join. \nAny member may request time to speak with the Executive Committee at their monthly meeting. Please email in**@***************tx.org to request a time to bring a topic forward to the Executive Committee.
URL:https://onevoicecentraltx.org/event/2024-executive-committee-meetings/
LOCATION:Virtual (Zoom)
END:VEVENT
BEGIN:VEVENT
DTSTART;TZID=America/Chicago:20240118T113000
DTEND;TZID=America/Chicago:20240118T130000
DTSTAMP:20260421T025119
CREATED:20231218T175737Z
LAST-MODIFIED:20231218T175737Z
UID:22323-1705577400-1705582800@onevoicecentraltx.org
SUMMARY:2024 General Member Meetings
DESCRIPTION:General Member Meetings provide executive leadership with the opportunity to learn and connect with one another on a monthly basis. These meetings consist of voting items\, small group discussions\, committee updates\, conversations about current events\, and informational sessions as requested by members. These meetings are for members and designees only. \n2024 Member Meetings will take place primarily virtually\, with the final meeting of each quarter taking place in person. Make sure you RSVP here so the meetings are on your calendar. \nSee the 2024 Member Meeting Calendar for a list of dates and locations. \nWho: OVCT Member EDs and Designees \nWhen: Third Thursday of each month from 11:30 a.m. – 1:00 p.m. (excluding July and December) \nWhere: Register here to hold the time on your calendar
URL:https://onevoicecentraltx.org/event/2024-general-member-meetings/
LOCATION:Virtual (Zoom)
END:VEVENT
BEGIN:VEVENT
DTSTART;TZID=America/Chicago:20240122T140000
DTEND;TZID=America/Chicago:20240122T150000
DTSTAMP:20260421T025119
CREATED:20231218T172536Z
LAST-MODIFIED:20231222T164345Z
UID:22286-1705932000-1705935600@onevoicecentraltx.org
SUMMARY:2024 Membership Committee Meetings
DESCRIPTION:The Membership Committee reviews and makes recommendations regarding membership categories; identifies and reaches out to potential new members and affiliates; conducts the annual membership drive; welcomes and supports new members; facilitates an atmosphere of mutual support among members through networking\, social events and other means; organizes social events that allow for members to connect with one another outside of meetings; and encourages member involvement in committees. \nThis Committee meets virtually on the fourth Monday of each month from 2:00 – 3:00 p.m. This committee will take a summer break from May-July. \nDrop-in attendance from Members and their staff is welcome! Please see below for virtual meeting details. \nJoin Zoom Meeting: https://us02web.zoom.us/j/87841041662?pwd=VktGQ3RneERtM1JYQzhZV3NhRlM0dz09 \nDial In: 1-346-248-7799 \nMeeting ID: 824 9194 2004 \nPasscode: 640073
URL:https://onevoicecentraltx.org/event/2024-membership-committee-meetings/2024-01-22/
LOCATION:Virtual (Zoom)
END:VEVENT
END:VCALENDAR