BEGIN:VCALENDAR
VERSION:2.0
PRODID:-//One Voice Central Texas - ECPv6.15.20//NONSGML v1.0//EN
CALSCALE:GREGORIAN
METHOD:PUBLISH
X-WR-CALNAME:One Voice Central Texas
X-ORIGINAL-URL:https://onevoicecentraltx.org
X-WR-CALDESC:Events for One Voice Central Texas
REFRESH-INTERVAL;VALUE=DURATION:PT1H
X-Robots-Tag:noindex
X-PUBLISHED-TTL:PT1H
BEGIN:VTIMEZONE
TZID:America/Chicago
BEGIN:DAYLIGHT
TZOFFSETFROM:-0600
TZOFFSETTO:-0500
TZNAME:CDT
DTSTART:20240310T080000
END:DAYLIGHT
BEGIN:STANDARD
TZOFFSETFROM:-0500
TZOFFSETTO:-0600
TZNAME:CST
DTSTART:20241103T070000
END:STANDARD
BEGIN:DAYLIGHT
TZOFFSETFROM:-0600
TZOFFSETTO:-0500
TZNAME:CDT
DTSTART:20250309T080000
END:DAYLIGHT
BEGIN:STANDARD
TZOFFSETFROM:-0500
TZOFFSETTO:-0600
TZNAME:CST
DTSTART:20251102T070000
END:STANDARD
BEGIN:DAYLIGHT
TZOFFSETFROM:-0600
TZOFFSETTO:-0500
TZNAME:CDT
DTSTART:20260308T080000
END:DAYLIGHT
BEGIN:STANDARD
TZOFFSETFROM:-0500
TZOFFSETTO:-0600
TZNAME:CST
DTSTART:20261101T070000
END:STANDARD
END:VTIMEZONE
BEGIN:VEVENT
DTSTART;TZID=America/Chicago:20250404T100000
DTEND;TZID=America/Chicago:20250404T120000
DTSTAMP:20260420T060221
CREATED:20250313T165042Z
LAST-MODIFIED:20250313T223000Z
UID:23235-1743760800-1743768000@onevoicecentraltx.org
SUMMARY:Leading Through Uncertainty: Strategies for Nonprofit Resilience
DESCRIPTION:  \n \nLeading a nonprofit organization in today’s climate requires more than just resilience – it demands clarity\, connection\, and the ability to lead with a steady hand in the face of considerable uncertainty. In this interactive workshop\, Laura Elmore LeBlanc and Julia Cuba Lewis bring their signature blend of expertise and candor to help Executive Directors navigate the unknowns of federal legislation\, economic shifts\, and the daily realities of nonprofit leadership. Through personal storytelling and shared strategies\, we’ll explore what has worked – and what hasn’t – when leading through crises\, from COVID-19 to funding cuts and major transitions. We’ll identify what is within our control\, how to use your influence effectively\, and why fostering connection and momentum can turn uncertainty into opportunity. \nWhen: Friday April 4th 10am-12pm \nWhere: UFCU Plaza\, 8303 N Mopac Expy\, Austin TX \nGo here to register!\n  \nEvent location and amenities generously sponsored by UFCU – thank you!
URL:https://onevoicecentraltx.org/event/leading-through-uncertainty-strategies-for-nonprofit-resilience/
LOCATION:UFCU Plaza\, 8303 N. MoPac Expy.\, Austin\, Texas\, 78757
END:VEVENT
BEGIN:VEVENT
DTSTART;TZID=America/Chicago:20250423T110000
DTEND;TZID=America/Chicago:20250423T120000
DTSTAMP:20260420T060221
CREATED:20250107T201810Z
LAST-MODIFIED:20250206T190802Z
UID:23184-1745406000-1745409600@onevoicecentraltx.org
SUMMARY:2025 Sustainability Committee Meetings
DESCRIPTION:The Sustainability Committee is charged with identifying potential funding sources for One Voice Central Texas\, completing grant applications for which One Voice is eligible\, securing sponsors\, and reviewing the One Voice sponsorship package on an annual basis to ensure it is attractive and beneficial to sponsors. \n2025 Sustainability Committee Meetings will take place on the fourth Friday of each month from 10:30 – 11:30 a.m. (excluding July and December). \n\nWho: OVCT Members and Staff Members interested in diversifying OVCT’s funding portfolio and other development opportunities\nWhen: Fourth Friday of each month from 10:30 – 11:30 a.m.\nWhere: Zoom (Click to join)
URL:https://onevoicecentraltx.org/event/2025-sustainability-committee-meetings/2025-04-23/
LOCATION:Virtual (Zoom)
END:VEVENT
BEGIN:VEVENT
DTSTART;TZID=America/Chicago:20250424T100000
DTEND;TZID=America/Chicago:20250424T110000
DTSTAMP:20260420T060221
CREATED:20241210T154148Z
LAST-MODIFIED:20241210T154148Z
UID:23055-1745488800-1745492400@onevoicecentraltx.org
SUMMARY:2025 Standards of Excellence Committee Meetings
DESCRIPTION:The Standards of Excellence Committee may conduct and review standards assessments\, identify issues to be addressed through member workshops\, organize relevant training sessions\, and recommend adjustments to One Voice’s tools and resources. \n2025 Standards Committee Meetings will take place on the fourth Thursday of each month from 10:00 – 11:00 a.m. \nWho: OVCT Members and Staff Members interested in professional development and other methods of maintaining standards of excellence \nWhen: Fourth Thursday of each month from 10:00 – 11:00 \nWhere: Zoom (Click to join)
URL:https://onevoicecentraltx.org/event/2025-standards-of-excellence-committee-meetings/2025-04-24/
LOCATION:Virtual (Zoom)
END:VEVENT
END:VCALENDAR