BEGIN:VCALENDAR
VERSION:2.0
PRODID:-//One Voice Central Texas - ECPv6.15.20//NONSGML v1.0//EN
CALSCALE:GREGORIAN
METHOD:PUBLISH
X-ORIGINAL-URL:https://onevoicecentraltx.org
X-WR-CALDESC:Events for One Voice Central Texas
REFRESH-INTERVAL;VALUE=DURATION:PT1H
X-Robots-Tag:noindex
X-PUBLISHED-TTL:PT1H
BEGIN:VTIMEZONE
TZID:America/Chicago
BEGIN:DAYLIGHT
TZOFFSETFROM:-0600
TZOFFSETTO:-0500
TZNAME:CDT
DTSTART:20200308T080000
END:DAYLIGHT
BEGIN:STANDARD
TZOFFSETFROM:-0500
TZOFFSETTO:-0600
TZNAME:CST
DTSTART:20201101T070000
END:STANDARD
BEGIN:DAYLIGHT
TZOFFSETFROM:-0600
TZOFFSETTO:-0500
TZNAME:CDT
DTSTART:20210314T080000
END:DAYLIGHT
BEGIN:STANDARD
TZOFFSETFROM:-0500
TZOFFSETTO:-0600
TZNAME:CST
DTSTART:20211107T070000
END:STANDARD
BEGIN:DAYLIGHT
TZOFFSETFROM:-0600
TZOFFSETTO:-0500
TZNAME:CDT
DTSTART:20220313T080000
END:DAYLIGHT
BEGIN:STANDARD
TZOFFSETFROM:-0500
TZOFFSETTO:-0600
TZNAME:CST
DTSTART:20221106T070000
END:STANDARD
END:VTIMEZONE
BEGIN:VEVENT
DTSTART;TZID=America/Chicago:20210709T090000
DTEND;TZID=America/Chicago:20210709T110000
DTSTAMP:20260424T190651
CREATED:20210422T201218Z
LAST-MODIFIED:20210507T193642Z
UID:17544-1625821200-1625828400@onevoicecentraltx.org
SUMMARY:OVCT DEI Session #3 (First Offering) Equity by Design: Tools for Communication\, Community Engagement\, Planning\, Budgeting & Evaluation
DESCRIPTION:One Voice Central Texas is excited to share that we have selected Dr. Stephanie Hawley (she/her/hers) as a Diversity\, Equity\, and Inclusion (DEI) Consultant. Stephanie will help assess member needs and interests regarding DEI tools\, resources\, and trainings. \nIn addition to assisting with self-assessment tools\, Stephanie will also be leading three DEI sessions for OVCT members with two dates for each session so members have more flexibility in their ability to attend. We encourage members to attend all three sessions. \nSession 3: Equity by Design: Tools for Communication\, Community Engagement\, Planning\, Budgeting & Evaluation \nTwo available dates in July: \nFirst Offering: Friday July 9 from 9:00 – 11:00 a.m.\nSecond Offering: Thursday July 29 from 3:00 – 5:00 p.m. \nMembers may attend EITHER of these dates for Session 3. \nFor the July 9 date\, please register here: \n﻿ \n  \nPlease go here to register for the other DEI Sessions: \nDEI Session #1: Leading for Racial Equity & Inclusiveness: A Leader’s Tools & Habits \nFirst Offering: Friday May 14 from 9:00 – 11:00 a.m. \nSecond Offering: Thursday May 27 from 3:00 – 5:00 p.m. (In place of the existing Equity & Social Justice Committee Meeting) \nMembers only need to register for one of the dates for Session #1. \n  \nDEI Session #2: Uprooting Internalized White Supremacy\, Equity Principles & The Standards for Excellence \nFirst Offering: Friday June 11 from 9:00 – 11:00 a.m. \nSecond Offering: Friday June 25 from 1:00 – 3:00 p.m. (In place of the existing Standards of Excellence Committee Meeting) \nMembers only need to register for one of the dates for Session #2. \n  \nDEI Session #3: Equity by Design: Tools for Communication\, Community Engagement\, Planning\, Budgeting & Evaluation \nSecond Offering: Thursday July 29 from 3:00 – 5:00 p.m. \nMembers only need to register for one of the dates for Session #3. \n 
URL:https://onevoicecentraltx.org/event/ovct-dei-session-3-first-offering/
LOCATION:Virtual (Zoom)
END:VEVENT
END:VCALENDAR