BEGIN:VCALENDAR
VERSION:2.0
PRODID:-//One Voice Central Texas - ECPv6.15.20//NONSGML v1.0//EN
CALSCALE:GREGORIAN
METHOD:PUBLISH
X-WR-CALNAME:One Voice Central Texas
X-ORIGINAL-URL:https://onevoicecentraltx.org
X-WR-CALDESC:Events for One Voice Central Texas
REFRESH-INTERVAL;VALUE=DURATION:PT1H
X-Robots-Tag:noindex
X-PUBLISHED-TTL:PT1H
BEGIN:VTIMEZONE
TZID:America/Chicago
BEGIN:DAYLIGHT
TZOFFSETFROM:-0600
TZOFFSETTO:-0500
TZNAME:CDT
DTSTART:20210314T080000
END:DAYLIGHT
BEGIN:STANDARD
TZOFFSETFROM:-0500
TZOFFSETTO:-0600
TZNAME:CST
DTSTART:20211107T070000
END:STANDARD
BEGIN:DAYLIGHT
TZOFFSETFROM:-0600
TZOFFSETTO:-0500
TZNAME:CDT
DTSTART:20220313T080000
END:DAYLIGHT
BEGIN:STANDARD
TZOFFSETFROM:-0500
TZOFFSETTO:-0600
TZNAME:CST
DTSTART:20221106T070000
END:STANDARD
BEGIN:DAYLIGHT
TZOFFSETFROM:-0600
TZOFFSETTO:-0500
TZNAME:CDT
DTSTART:20230312T080000
END:DAYLIGHT
BEGIN:STANDARD
TZOFFSETFROM:-0500
TZOFFSETTO:-0600
TZNAME:CST
DTSTART:20231105T070000
END:STANDARD
END:VTIMEZONE
BEGIN:VEVENT
DTSTART;TZID=America/Chicago:20220422T130000
DTEND;TZID=America/Chicago:20220422T143000
DTSTAMP:20260424T013538
CREATED:20220225T213045Z
LAST-MODIFIED:20220303T194045Z
UID:19059-1650632400-1650637800@onevoicecentraltx.org
SUMMARY:OVCT Salary & Benefit Report Analysis with Jon Hockenyos
DESCRIPTION:The Standards of Excellence Committee invites One Voice members to attend an informative Salary & Benefits session with Jon Hockenyos\, Founder and President of TXP Inc.\, an economic analysis and public policy consulting firm founded in 1987 in Austin\, Texas. Over the past 30+ years\, TXP has worked on hundreds of projects with clients from private business\, public sector\, and non-profit organizations. \nIn his role as President of the firm\, Jon is involved in managing the day-to-day operations of the organization\, performing technical analysis\, and developing strategies for clients. Jon has served as a resource witness on a variety of issues in front of city councils\, state legislatures\, and the U.S. Congress. He also served on the Board of Directors for Capital Metro\, the Board of the ARC of the Capital Area\, and the Travis County Citizen’s Advisory Council. \nUsing information from his own economic analysis research and the 2021 One Voice Central Texas Salary & Benefits Report\, Jon will address the following objectives: \n\nHow do health and human service nonprofit salaries stack up against actual cost of living in Austin?\nWhat can we expect to see in cost of living in Austin in the next five years?\nHow can One Voice Central Texas\, as a coalition\, influence more flexibility in nonprofit funding?\n\nPlease join us for this informative session. \nWhen: Friday\, April 22 from 1:00 – 2:30 p.m. \nWho: Current One Voice members who own a copy of the 2021 Salary & Benefits Report. Member EDs and CEOs are welcome to invite their HR personnel\, but all guests must register. \nWhere: Virtual – Please register here. Members must register for this event in order to receive a meeting link. \nCost: This event is free to attend. $10 donations are always welcome. To make a donation\, please click here.
URL:https://onevoicecentraltx.org/event/ovct-salary-benefit-report-analysis/
LOCATION:Virtual (Zoom)
END:VEVENT
END:VCALENDAR