BEGIN:VCALENDAR
VERSION:2.0
PRODID:-//One Voice Central Texas - ECPv6.15.20//NONSGML v1.0//EN
CALSCALE:GREGORIAN
METHOD:PUBLISH
X-WR-CALNAME:One Voice Central Texas
X-ORIGINAL-URL:https://onevoicecentraltx.org
X-WR-CALDESC:Events for One Voice Central Texas
REFRESH-INTERVAL;VALUE=DURATION:PT1H
X-Robots-Tag:noindex
X-PUBLISHED-TTL:PT1H
BEGIN:VTIMEZONE
TZID:America/Chicago
BEGIN:DAYLIGHT
TZOFFSETFROM:-0600
TZOFFSETTO:-0500
TZNAME:CDT
DTSTART:20210314T080000
END:DAYLIGHT
BEGIN:STANDARD
TZOFFSETFROM:-0500
TZOFFSETTO:-0600
TZNAME:CST
DTSTART:20211107T070000
END:STANDARD
BEGIN:DAYLIGHT
TZOFFSETFROM:-0600
TZOFFSETTO:-0500
TZNAME:CDT
DTSTART:20220313T080000
END:DAYLIGHT
BEGIN:STANDARD
TZOFFSETFROM:-0500
TZOFFSETTO:-0600
TZNAME:CST
DTSTART:20221106T070000
END:STANDARD
BEGIN:DAYLIGHT
TZOFFSETFROM:-0600
TZOFFSETTO:-0500
TZNAME:CDT
DTSTART:20230312T080000
END:DAYLIGHT
BEGIN:STANDARD
TZOFFSETFROM:-0500
TZOFFSETTO:-0600
TZNAME:CST
DTSTART:20231105T070000
END:STANDARD
END:VTIMEZONE
BEGIN:VEVENT
DTSTART;TZID=America/Chicago:20221014T110000
DTEND;TZID=America/Chicago:20221014T123000
DTSTAMP:20260423T035835
CREATED:20220921T134245Z
LAST-MODIFIED:20220921T205827Z
UID:20321-1665745200-1665750600@onevoicecentraltx.org
SUMMARY:Strengths-Based Communications with Dulari Gandhi
DESCRIPTION:The One Voice Central Texas Marketing & Communications Committee invites you to join us for a training session on creating increasingly strategic communications that will support organization awareness and fundraising.\n\nOur trainer will be Dulari Gandhi of D. Gandhi Communications\, a strategic communications firm that helps corporations\, foundations\, nonprofit organizations\, and social impact entrepreneurs communicate clearly in a complicated world.\n\nThis session will include: \n\nAn overview of strengths-based communications to appeal to funders\nAn opportunity for members to think critically about their own organizations’ communications capacity and processes\nAn overview of tools and guidelines to help organizations move forward\n\nWho: One Voice Members\, Staff\, Board Members\, The Nonprofit Council Members & Staff \nWhen: Please join us on Friday\, October 14 from 11:00 a.m. – 12:30 p.m. \nWhere: Virtual – Register using the form below. \nAbout our Speaker \nDulari Gandhi is the founder of D. Gandhi Communications\, a strategic communications firm that helps corporations\, foundations\, nonprofit organizations\, and social impact entrepreneurs communicate clearly in a complicated world. Dulari’s prior work experience includes over 15 years in social impact in government\, nonprofit\, consulting\, corporate\, and philanthropy. Her experiences include communications and grant-making at the Michael & Susan Dell Foundation\, donor relations at the Global Hunger Project\, and serving as a Public Health Advisor at the New York City Department of Health & Mental Hygiene. For more detail and information about Dulari’s work experience\, please follow her on LinkedIn. \nPlease register here: \n\n﻿﻿
URL:https://onevoicecentraltx.org/event/strengths-based-communications-with-dulari-gandhi/
LOCATION:Virtual (Zoom)
END:VEVENT
END:VCALENDAR