BEGIN:VCALENDAR
VERSION:2.0
PRODID:-//One Voice Central Texas - ECPv6.15.20//NONSGML v1.0//EN
CALSCALE:GREGORIAN
METHOD:PUBLISH
X-WR-CALNAME:One Voice Central Texas
X-ORIGINAL-URL:https://onevoicecentraltx.org
X-WR-CALDESC:Events for One Voice Central Texas
REFRESH-INTERVAL;VALUE=DURATION:PT1H
X-Robots-Tag:noindex
X-PUBLISHED-TTL:PT1H
BEGIN:VTIMEZONE
TZID:America/Chicago
BEGIN:DAYLIGHT
TZOFFSETFROM:-0600
TZOFFSETTO:-0500
TZNAME:CDT
DTSTART:20220313T080000
END:DAYLIGHT
BEGIN:STANDARD
TZOFFSETFROM:-0500
TZOFFSETTO:-0600
TZNAME:CST
DTSTART:20221106T070000
END:STANDARD
BEGIN:DAYLIGHT
TZOFFSETFROM:-0600
TZOFFSETTO:-0500
TZNAME:CDT
DTSTART:20230312T080000
END:DAYLIGHT
BEGIN:STANDARD
TZOFFSETFROM:-0500
TZOFFSETTO:-0600
TZNAME:CST
DTSTART:20231105T070000
END:STANDARD
BEGIN:DAYLIGHT
TZOFFSETFROM:-0600
TZOFFSETTO:-0500
TZNAME:CDT
DTSTART:20240310T080000
END:DAYLIGHT
BEGIN:STANDARD
TZOFFSETFROM:-0500
TZOFFSETTO:-0600
TZNAME:CST
DTSTART:20241103T070000
END:STANDARD
END:VTIMEZONE
BEGIN:VEVENT
DTSTART;TZID=America/Chicago:20230427T113000
DTEND;TZID=America/Chicago:20230427T123000
DTSTAMP:20260422T165910
CREATED:20221220T221149Z
LAST-MODIFIED:20230411T195352Z
UID:21055-1682595000-1682598600@onevoicecentraltx.org
SUMMARY:General Member Meeting
DESCRIPTION:*Special Edition General Member Meeting* \nThe Member Meeting originally scheduled for April 20 will now take place on April 27 from 11:30 a.m. – 12:30 p.m. \nSince so many One Voice Members will be attending (and serving on panels at) the Culture of Collaboration Summit being held by Austin Together on April 20\, the decision was made to move the April Member Meeting and use it as a one-hour virtual debrief of the summit and conversation about collaboration. We look forward to the conversation! \n\nWho: One Voice Members & Designees\nWhen: April 27 from 11:30 a.m. – 12:30 p.m.\nWhere: Please register here for the Zoom series so the time is held on your calendar.\n\nPlease note: This meeting has been moved on the Zoom side\, but if you were already registered for the 2023 meeting series you will need to manually move it and shorten it to one hour on your own calendar. Unfortunately\, updating Zoom on the admin side does not update the event for anyone registered.
URL:https://onevoicecentraltx.org/event/general-member-meeting-2023-04-20/
LOCATION:Virtual (Zoom)
END:VEVENT
END:VCALENDAR