BEGIN:VCALENDAR
VERSION:2.0
PRODID:-//One Voice Central Texas - ECPv6.15.20//NONSGML v1.0//EN
CALSCALE:GREGORIAN
METHOD:PUBLISH
X-WR-CALNAME:One Voice Central Texas
X-ORIGINAL-URL:https://onevoicecentraltx.org
X-WR-CALDESC:Events for One Voice Central Texas
REFRESH-INTERVAL;VALUE=DURATION:PT1H
X-Robots-Tag:noindex
X-PUBLISHED-TTL:PT1H
BEGIN:VTIMEZONE
TZID:America/Chicago
BEGIN:DAYLIGHT
TZOFFSETFROM:-0600
TZOFFSETTO:-0500
TZNAME:CDT
DTSTART:20220313T080000
END:DAYLIGHT
BEGIN:STANDARD
TZOFFSETFROM:-0500
TZOFFSETTO:-0600
TZNAME:CST
DTSTART:20221106T070000
END:STANDARD
BEGIN:DAYLIGHT
TZOFFSETFROM:-0600
TZOFFSETTO:-0500
TZNAME:CDT
DTSTART:20230312T080000
END:DAYLIGHT
BEGIN:STANDARD
TZOFFSETFROM:-0500
TZOFFSETTO:-0600
TZNAME:CST
DTSTART:20231105T070000
END:STANDARD
BEGIN:DAYLIGHT
TZOFFSETFROM:-0600
TZOFFSETTO:-0500
TZNAME:CDT
DTSTART:20240310T080000
END:DAYLIGHT
BEGIN:STANDARD
TZOFFSETFROM:-0500
TZOFFSETTO:-0600
TZNAME:CST
DTSTART:20241103T070000
END:STANDARD
END:VTIMEZONE
BEGIN:VEVENT
DTSTART;TZID=America/Chicago:20230509T160000
DTEND;TZID=America/Chicago:20230509T170000
DTSTAMP:20260422T170526
CREATED:20230403T220743Z
LAST-MODIFIED:20230403T220840Z
UID:21797-1683648000-1683651600@onevoicecentraltx.org
SUMMARY:OVCT New Member Orientation
DESCRIPTION:Are you new to One Voice? Have you been with One Voice for a couple years but still have questions about the structure and best way to take advantage of your membership? We invite you to join us for the OVCT New Member Orientation on Tuesday\, May 9 from 4:00 – 5:00 p.m. \nWe will provide information about the coalition\, goals for the year\, information about committees and benefits\, and learn more about your organizations. Throughout the event we will have raffle drawings for gift cards from local Austin establishments. While the event is planned with new members and EDs in mind\, all members are welcome to join. \nWe’ve decided to keep this orientation virtual so it is more accessible for new members\, who are spread out across the Austin metro area. \nPlease register here for this event.
URL:https://onevoicecentraltx.org/event/ovct-new-member-orientation/
LOCATION:Virtual (Zoom)
END:VEVENT
BEGIN:VEVENT
DTSTART;TZID=America/Chicago:20230509T160000
DTEND;TZID=America/Chicago:20230509T170000
DTSTAMP:20260422T170526
CREATED:20230428T174219Z
LAST-MODIFIED:20230428T174219Z
UID:21951-1683648000-1683651600@onevoicecentraltx.org
SUMMARY:2023 New Member Orientation
DESCRIPTION:We invite all new members to join us for a virtual New Member Orientation on Tuesday\, May 9 from 4:00 – 5:00 p.m. \nWe will provide information about the coalition\, goals for the year\, information about committees and benefits\, and learn more about your organizations. Throughout the event we will have raffle drawings for gift cards. While the event is planned with new members and EDs in mind\, all members are welcome to join. \nWe’ve decided to keep this orientation virtual so it is more accessible for members spread out across the Austin metro area. \nPlease register here for the New Member Orientation. \n 
URL:https://onevoicecentraltx.org/event/2023-new-member-orientation/
LOCATION:Virtual (Zoom)
END:VEVENT
END:VCALENDAR