BEGIN:VCALENDAR
VERSION:2.0
PRODID:-//One Voice Central Texas - ECPv6.15.20//NONSGML v1.0//EN
CALSCALE:GREGORIAN
METHOD:PUBLISH
X-WR-CALNAME:One Voice Central Texas
X-ORIGINAL-URL:https://onevoicecentraltx.org
X-WR-CALDESC:Events for One Voice Central Texas
REFRESH-INTERVAL;VALUE=DURATION:PT1H
X-Robots-Tag:noindex
X-PUBLISHED-TTL:PT1H
BEGIN:VTIMEZONE
TZID:America/Chicago
BEGIN:DAYLIGHT
TZOFFSETFROM:-0600
TZOFFSETTO:-0500
TZNAME:CDT
DTSTART:20220313T080000
END:DAYLIGHT
BEGIN:STANDARD
TZOFFSETFROM:-0500
TZOFFSETTO:-0600
TZNAME:CST
DTSTART:20221106T070000
END:STANDARD
BEGIN:DAYLIGHT
TZOFFSETFROM:-0600
TZOFFSETTO:-0500
TZNAME:CDT
DTSTART:20230312T080000
END:DAYLIGHT
BEGIN:STANDARD
TZOFFSETFROM:-0500
TZOFFSETTO:-0600
TZNAME:CST
DTSTART:20231105T070000
END:STANDARD
BEGIN:DAYLIGHT
TZOFFSETFROM:-0600
TZOFFSETTO:-0500
TZNAME:CDT
DTSTART:20240310T080000
END:DAYLIGHT
BEGIN:STANDARD
TZOFFSETFROM:-0500
TZOFFSETTO:-0600
TZNAME:CST
DTSTART:20241103T070000
END:STANDARD
END:VTIMEZONE
BEGIN:VEVENT
DTSTART;TZID=America/Chicago:20230621T080000
DTEND;TZID=America/Chicago:20230621T170000
DTSTAMP:20260422T170007
CREATED:20230428T174540Z
LAST-MODIFIED:20230428T174540Z
UID:21953-1687334400-1687366800@onevoicecentraltx.org
SUMMARY:Member Happy Hour
DESCRIPTION:The OVCT Membership Committee is happy to invite you to a member happy hour this summer! Shut down a little early and come join us at The Brewtorium (across from ACC Highland) on June 21. Place the details on your calendar now! \n\n\n \n\n\nWho: OVCT Members (Colleagues and partners are welcome – this event will be self-pay)\n\n\nWhen: Wednesday\, June 21 from 5:00 – 7:00 p.m. Please dress comfortably!\n\n\nWhere: The Brewtorium\, 6015 Dillard Cir A\, Austin\, TX 78752\n\n\n \n\n\nThe Brewtorium has its own parking lot\, a bike rack\, and is right next to the Highland MetroRail Station. They offer beer\, wine\, mead\, cider\, and non-alcoholic drinks. They also have a full menu with pizza\, salad\, and pub grub. We look forward to seeing everyone!
URL:https://onevoicecentraltx.org/event/member-happy-hour/
LOCATION:The Brewtorium\, 6015 Dillard Cir A\, Austin\, TX\, 78752\, United States
END:VEVENT
END:VCALENDAR