BEGIN:VCALENDAR
VERSION:2.0
PRODID:-//One Voice Central Texas - ECPv6.15.20//NONSGML v1.0//EN
CALSCALE:GREGORIAN
METHOD:PUBLISH
X-ORIGINAL-URL:https://onevoicecentraltx.org
X-WR-CALDESC:Events for One Voice Central Texas
REFRESH-INTERVAL;VALUE=DURATION:PT1H
X-Robots-Tag:noindex
X-PUBLISHED-TTL:PT1H
BEGIN:VTIMEZONE
TZID:America/Chicago
BEGIN:DAYLIGHT
TZOFFSETFROM:-0600
TZOFFSETTO:-0500
TZNAME:CDT
DTSTART:20230312T080000
END:DAYLIGHT
BEGIN:STANDARD
TZOFFSETFROM:-0500
TZOFFSETTO:-0600
TZNAME:CST
DTSTART:20231105T070000
END:STANDARD
BEGIN:DAYLIGHT
TZOFFSETFROM:-0600
TZOFFSETTO:-0500
TZNAME:CDT
DTSTART:20240310T080000
END:DAYLIGHT
BEGIN:STANDARD
TZOFFSETFROM:-0500
TZOFFSETTO:-0600
TZNAME:CST
DTSTART:20241103T070000
END:STANDARD
BEGIN:DAYLIGHT
TZOFFSETFROM:-0600
TZOFFSETTO:-0500
TZNAME:CDT
DTSTART:20250309T080000
END:DAYLIGHT
BEGIN:STANDARD
TZOFFSETFROM:-0500
TZOFFSETTO:-0600
TZNAME:CST
DTSTART:20251102T070000
END:STANDARD
END:VTIMEZONE
BEGIN:VEVENT
DTSTART;TZID=America/Chicago:20240118T113000
DTEND;TZID=America/Chicago:20240118T130000
DTSTAMP:20260421T052846
CREATED:20231218T175737Z
LAST-MODIFIED:20231218T175737Z
UID:22323-1705577400-1705582800@onevoicecentraltx.org
SUMMARY:2024 General Member Meetings
DESCRIPTION:General Member Meetings provide executive leadership with the opportunity to learn and connect with one another on a monthly basis. These meetings consist of voting items\, small group discussions\, committee updates\, conversations about current events\, and informational sessions as requested by members. These meetings are for members and designees only. \n2024 Member Meetings will take place primarily virtually\, with the final meeting of each quarter taking place in person. Make sure you RSVP here so the meetings are on your calendar. \nSee the 2024 Member Meeting Calendar for a list of dates and locations. \nWho: OVCT Member EDs and Designees \nWhen: Third Thursday of each month from 11:30 a.m. – 1:00 p.m. (excluding July and December) \nWhere: Register here to hold the time on your calendar
URL:https://onevoicecentraltx.org/event/2024-general-member-meetings/
LOCATION:Virtual (Zoom)
END:VEVENT
END:VCALENDAR