BEGIN:VCALENDAR
VERSION:2.0
PRODID:-//One Voice Central Texas - ECPv6.15.20//NONSGML v1.0//EN
CALSCALE:GREGORIAN
METHOD:PUBLISH
X-ORIGINAL-URL:https://onevoicecentraltx.org
X-WR-CALDESC:Events for One Voice Central Texas
REFRESH-INTERVAL;VALUE=DURATION:PT1H
X-Robots-Tag:noindex
X-PUBLISHED-TTL:PT1H
BEGIN:VTIMEZONE
TZID:America/Chicago
BEGIN:DAYLIGHT
TZOFFSETFROM:-0600
TZOFFSETTO:-0500
TZNAME:CDT
DTSTART:20240310T080000
END:DAYLIGHT
BEGIN:STANDARD
TZOFFSETFROM:-0500
TZOFFSETTO:-0600
TZNAME:CST
DTSTART:20241103T070000
END:STANDARD
BEGIN:DAYLIGHT
TZOFFSETFROM:-0600
TZOFFSETTO:-0500
TZNAME:CDT
DTSTART:20250309T080000
END:DAYLIGHT
BEGIN:STANDARD
TZOFFSETFROM:-0500
TZOFFSETTO:-0600
TZNAME:CST
DTSTART:20251102T070000
END:STANDARD
BEGIN:DAYLIGHT
TZOFFSETFROM:-0600
TZOFFSETTO:-0500
TZNAME:CDT
DTSTART:20260308T080000
END:DAYLIGHT
BEGIN:STANDARD
TZOFFSETFROM:-0500
TZOFFSETTO:-0600
TZNAME:CST
DTSTART:20261101T070000
END:STANDARD
END:VTIMEZONE
BEGIN:VEVENT
DTSTART;TZID=America/Chicago:20250108T113000
DTEND;TZID=America/Chicago:20250108T130000
DTSTAMP:20260420T122603
CREATED:20241217T143840Z
LAST-MODIFIED:20241217T143840Z
UID:23100-1736335800-1736341200@onevoicecentraltx.org
SUMMARY:2025 Executive Committee Meetings
DESCRIPTION:In January\, the Executive Committee will meet January 8 from 11:30 a.m. – 1:00 p.m. for their kick-off meeting. For the remainder of the year\, the Executive Committee will meet virtually on the first Thursday of each month from 10:00 – 11:30 a.m. Meetings are reserved for Executive Committee Members so there is not a public link to join. \nAny member may request time to speak with the Executive Committee at their monthly meeting. Please email in**@***************tx.org to request a time to bring a topic forward to the Executive Committee.
URL:https://onevoicecentraltx.org/event/2025-executive-committee-meetings/
LOCATION:Virtual (Zoom)
END:VEVENT
BEGIN:VEVENT
DTSTART;TZID=America/Chicago:20250109T150000
DTEND;TZID=America/Chicago:20250109T160000
DTSTAMP:20260420T122603
CREATED:20250107T201442Z
LAST-MODIFIED:20250617T145843Z
UID:23041-1736434800-1736438400@onevoicecentraltx.org
SUMMARY:2025 Public Policy Committee Meetings
DESCRIPTION:The Public Policy Committee takes a proactive approach to public policy by initiating\, assessing\, and responding to issues which benefit members and their clients. It may also serve as a vehicle for advocacy\, bringing matters of interest to the general membership. The committee may request meetings with elected officials and form groups to speak at City/County meetings. \n2025 Public Policy Committee Meetings will take place on the second Tuesday every other month from 3:00 – 4:00 p.m. (excluding July). \n\nWho: OVCT Members and Staff Members interested in advocacy and policy\nWhen: Second Thursday of every other month from 3:00 – 4:00\nWhere: Zoom (Click to join)
URL:https://onevoicecentraltx.org/event/2025-public-policy-committee-meetings/2025-01-09/
LOCATION:Virtual (Zoom)
END:VEVENT
END:VCALENDAR