BEGIN:VCALENDAR
VERSION:2.0
PRODID:-//One Voice Central Texas - ECPv6.15.20//NONSGML v1.0//EN
CALSCALE:GREGORIAN
METHOD:PUBLISH
X-ORIGINAL-URL:https://onevoicecentraltx.org
X-WR-CALDESC:Events for One Voice Central Texas
REFRESH-INTERVAL;VALUE=DURATION:PT1H
X-Robots-Tag:noindex
X-PUBLISHED-TTL:PT1H
BEGIN:VTIMEZONE
TZID:America/Chicago
BEGIN:DAYLIGHT
TZOFFSETFROM:-0600
TZOFFSETTO:-0500
TZNAME:CDT
DTSTART:20240310T080000
END:DAYLIGHT
BEGIN:STANDARD
TZOFFSETFROM:-0500
TZOFFSETTO:-0600
TZNAME:CST
DTSTART:20241103T070000
END:STANDARD
BEGIN:DAYLIGHT
TZOFFSETFROM:-0600
TZOFFSETTO:-0500
TZNAME:CDT
DTSTART:20250309T080000
END:DAYLIGHT
BEGIN:STANDARD
TZOFFSETFROM:-0500
TZOFFSETTO:-0600
TZNAME:CST
DTSTART:20251102T070000
END:STANDARD
BEGIN:DAYLIGHT
TZOFFSETFROM:-0600
TZOFFSETTO:-0500
TZNAME:CDT
DTSTART:20260308T080000
END:DAYLIGHT
BEGIN:STANDARD
TZOFFSETFROM:-0500
TZOFFSETTO:-0600
TZNAME:CST
DTSTART:20261101T070000
END:STANDARD
END:VTIMEZONE
BEGIN:VEVENT
DTSTART;TZID=America/Chicago:20250328T113000
DTEND;TZID=America/Chicago:20250328T130000
DTSTAMP:20260420T104644
CREATED:20241210T153859Z
LAST-MODIFIED:20250324T142905Z
UID:23074-1743161400-1743166800@onevoicecentraltx.org
SUMMARY:2025 Member Meetings
DESCRIPTION:See the 2025 Member Meeting Schedule for a list of dates and locations. \nThe March Member Meeting will be held in person on Friday\, March 28! Please note this is a rescheduled date. \n\nWho: One Voice Members and those interested in joining\nWhen: Friday March 28 from 11:30 a.m. – 1:00 p.m.\nWhere: UFCU Plaza – 8303 N Mopac Expy\, Austin\, TX 78759 (large UFCU building off of Steck and Mopac)\nParking: Free parking garage on site\nRSVP: Please RSVP here no later than March 21!\n\n  \n \nLunch Provided by Schlotzsky’s \nA huge thank you to Schlotzsky’s for generously sponsoring lunch for our March Member Meeting! We appreciate their support in keeping members fueled and ready for meaningful discussion. \n  \n \nMeeting Space & Amenities Sponsored by UFCU \nWe’re also incredibly grateful to UFCU for providing the meeting space and amenities for our member meeting! Their hospitality and continued support of the nonprofit community helps make gatherings like this one possible. \n  \n\n  \nThank you to our supporters:
URL:https://onevoicecentraltx.org/event/2025-member-meetings-2025-03-20/
LOCATION:UFCU Plaza\, 8303 N. MoPac Expy.\, Austin\, Texas\, 78757
END:VEVENT
END:VCALENDAR