BEGIN:VCALENDAR
VERSION:2.0
PRODID:-//One Voice Central Texas - ECPv6.15.20//NONSGML v1.0//EN
CALSCALE:GREGORIAN
METHOD:PUBLISH
X-WR-CALNAME:One Voice Central Texas
X-ORIGINAL-URL:https://onevoicecentraltx.org
X-WR-CALDESC:Events for One Voice Central Texas
REFRESH-INTERVAL;VALUE=DURATION:PT1H
X-Robots-Tag:noindex
X-PUBLISHED-TTL:PT1H
BEGIN:VTIMEZONE
TZID:America/Chicago
BEGIN:DAYLIGHT
TZOFFSETFROM:-0600
TZOFFSETTO:-0500
TZNAME:CDT
DTSTART:20240310T080000
END:DAYLIGHT
BEGIN:STANDARD
TZOFFSETFROM:-0500
TZOFFSETTO:-0600
TZNAME:CST
DTSTART:20241103T070000
END:STANDARD
BEGIN:DAYLIGHT
TZOFFSETFROM:-0600
TZOFFSETTO:-0500
TZNAME:CDT
DTSTART:20250309T080000
END:DAYLIGHT
BEGIN:STANDARD
TZOFFSETFROM:-0500
TZOFFSETTO:-0600
TZNAME:CST
DTSTART:20251102T070000
END:STANDARD
BEGIN:DAYLIGHT
TZOFFSETFROM:-0600
TZOFFSETTO:-0500
TZNAME:CDT
DTSTART:20260308T080000
END:DAYLIGHT
BEGIN:STANDARD
TZOFFSETFROM:-0500
TZOFFSETTO:-0600
TZNAME:CST
DTSTART:20261101T070000
END:STANDARD
END:VTIMEZONE
BEGIN:VEVENT
DTSTART;TZID=America/Chicago:20250723T110000
DTEND;TZID=America/Chicago:20250723T120000
DTSTAMP:20260420T014328
CREATED:20250107T201810Z
LAST-MODIFIED:20250206T190803Z
UID:23187-1753268400-1753272000@onevoicecentraltx.org
SUMMARY:2025 Sustainability Committee Meetings
DESCRIPTION:The Sustainability Committee is charged with identifying potential funding sources for One Voice Central Texas\, completing grant applications for which One Voice is eligible\, securing sponsors\, and reviewing the One Voice sponsorship package on an annual basis to ensure it is attractive and beneficial to sponsors. \n2025 Sustainability Committee Meetings will take place on the fourth Friday of each month from 10:30 – 11:30 a.m. (excluding July and December). \n\nWho: OVCT Members and Staff Members interested in diversifying OVCT’s funding portfolio and other development opportunities\nWhen: Fourth Friday of each month from 10:30 – 11:30 a.m.\nWhere: Zoom (Click to join)
URL:https://onevoicecentraltx.org/event/2025-sustainability-committee-meetings/2025-07-23/
LOCATION:Virtual (Zoom)
END:VEVENT
END:VCALENDAR