BEGIN:VCALENDAR
VERSION:2.0
PRODID:-//One Voice Central Texas - ECPv6.15.20//NONSGML v1.0//EN
CALSCALE:GREGORIAN
METHOD:PUBLISH
X-ORIGINAL-URL:https://onevoicecentraltx.org
X-WR-CALDESC:Events for One Voice Central Texas
REFRESH-INTERVAL;VALUE=DURATION:PT1H
X-Robots-Tag:noindex
X-PUBLISHED-TTL:PT1H
BEGIN:VTIMEZONE
TZID:America/Chicago
BEGIN:DAYLIGHT
TZOFFSETFROM:-0600
TZOFFSETTO:-0500
TZNAME:CDT
DTSTART:20240310T080000
END:DAYLIGHT
BEGIN:STANDARD
TZOFFSETFROM:-0500
TZOFFSETTO:-0600
TZNAME:CST
DTSTART:20241103T070000
END:STANDARD
BEGIN:DAYLIGHT
TZOFFSETFROM:-0600
TZOFFSETTO:-0500
TZNAME:CDT
DTSTART:20250309T080000
END:DAYLIGHT
BEGIN:STANDARD
TZOFFSETFROM:-0500
TZOFFSETTO:-0600
TZNAME:CST
DTSTART:20251102T070000
END:STANDARD
BEGIN:DAYLIGHT
TZOFFSETFROM:-0600
TZOFFSETTO:-0500
TZNAME:CDT
DTSTART:20260308T080000
END:DAYLIGHT
BEGIN:STANDARD
TZOFFSETFROM:-0500
TZOFFSETTO:-0600
TZNAME:CST
DTSTART:20261101T070000
END:STANDARD
END:VTIMEZONE
BEGIN:VEVENT
DTSTART;TZID=America/Chicago:20250821T113000
DTEND;TZID=America/Chicago:20250821T130000
DTSTAMP:20260420T014440
CREATED:20241210T153859Z
LAST-MODIFIED:20250729T165647Z
UID:23078-1755775800-1755781200@onevoicecentraltx.org
SUMMARY:2025 Member Meetings
DESCRIPTION:One Voice will be holding the August Member Meeting in person!\n  \nWho: One Voice Members and invited guests\nWhen: Thursday August 21 from 11:30 a.m. – 1:00 p.m.\nWhere: Breakthrough Central Texas – 3100 E 5th Street\, Suite 375 Austin\, TX 78702\nRSVP: Please RSVP using this link no later than August 15! \n  \nSee the 2025 Member Meeting Schedule for a list of dates and locations.
URL:https://onevoicecentraltx.org/event/2025-member-meetings-2025-08-21/
LOCATION:Breakthrough Central Texas\, 3100 E 5th Street\, Suite 375\, Austin\, TX\, 78702\, United States
END:VEVENT
END:VCALENDAR