BEGIN:VCALENDAR
VERSION:2.0
PRODID:-//One Voice Central Texas - ECPv6.15.20//NONSGML v1.0//EN
CALSCALE:GREGORIAN
METHOD:PUBLISH
X-ORIGINAL-URL:https://onevoicecentraltx.org
X-WR-CALDESC:Events for One Voice Central Texas
REFRESH-INTERVAL;VALUE=DURATION:PT1H
X-Robots-Tag:noindex
X-PUBLISHED-TTL:PT1H
BEGIN:VTIMEZONE
TZID:America/Chicago
BEGIN:DAYLIGHT
TZOFFSETFROM:-0600
TZOFFSETTO:-0500
TZNAME:CDT
DTSTART:20240310T080000
END:DAYLIGHT
BEGIN:STANDARD
TZOFFSETFROM:-0500
TZOFFSETTO:-0600
TZNAME:CST
DTSTART:20241103T070000
END:STANDARD
BEGIN:DAYLIGHT
TZOFFSETFROM:-0600
TZOFFSETTO:-0500
TZNAME:CDT
DTSTART:20250309T080000
END:DAYLIGHT
BEGIN:STANDARD
TZOFFSETFROM:-0500
TZOFFSETTO:-0600
TZNAME:CST
DTSTART:20251102T070000
END:STANDARD
BEGIN:DAYLIGHT
TZOFFSETFROM:-0600
TZOFFSETTO:-0500
TZNAME:CDT
DTSTART:20260308T080000
END:DAYLIGHT
BEGIN:STANDARD
TZOFFSETFROM:-0500
TZOFFSETTO:-0600
TZNAME:CST
DTSTART:20261101T070000
END:STANDARD
END:VTIMEZONE
BEGIN:VEVENT
DTSTART;TZID=America/Chicago:20251009T110000
DTEND;TZID=America/Chicago:20251009T120000
DTSTAMP:20260420T002536
CREATED:20250107T143610Z
LAST-MODIFIED:20250206T192145Z
UID:23202-1760007600-1760011200@onevoicecentraltx.org
SUMMARY:2025 Membership Committee Meetings
DESCRIPTION:The Membership Committee reviews and makes recommendations regarding membership categories; identifies and reaches out to potential new members and affiliates; conducts the annual membership drive; welcomes and supports new members; facilitates an atmosphere of mutual support among members through networking\, social events and other means; organizes social events that allow for members to connect with one another outside of meetings; and encourages member involvement in committees. \n11:00 – 12:00 p.m. on the second Thursday of every other month\, with member events and outreach taking place during the off months. \nMeeting Dates:  \n\nFebruary 13\nApril 10\nJune 12\nAugust 14\nOctober 9\n\nClick here to join us (will place you directly into Zoom room).
URL:https://onevoicecentraltx.org/event/2025-membership-committee-meeting/2025-10-09/
LOCATION:Virtual (Zoom)
END:VEVENT
BEGIN:VEVENT
DTSTART;TZID=America/Chicago:20251009T150000
DTEND;TZID=America/Chicago:20251009T160000
DTSTAMP:20260420T002536
CREATED:20250107T201442Z
LAST-MODIFIED:20250107T201442Z
UID:23298-1760022000-1760025600@onevoicecentraltx.org
SUMMARY:2025 Public Policy Committee Meetings
DESCRIPTION:The Public Policy Committee takes a proactive approach to public policy by initiating\, assessing\, and responding to issues which benefit members and their clients. It may also serve as a vehicle for advocacy\, bringing matters of interest to the general membership. The committee may request meetings with elected officials and form groups to speak at City/County meetings. \n2025 Public Policy Committee Meetings will take place on the second Tuesday every other month from 3:00 – 4:00 p.m. (excluding July). \n\nWho: OVCT Members and Staff Members interested in advocacy and policy\nWhen: Second Thursday of every other month from 3:00 – 4:00\nWhere: Zoom (Click to join)
URL:https://onevoicecentraltx.org/event/2025-public-policy-committee-meetings/2025-10-09/
LOCATION:Virtual (Zoom)
END:VEVENT
END:VCALENDAR